BEGIN:VCALENDAR
VERSION:2.0
PRODID:-//ChamberMaster//Event Calendar 2.0//EN
METHOD:PUBLISH
X-PUBLISHED-TTL:P3D
REFRESH-INTERVAL:P3D
CALSCALE:GREGORIAN
BEGIN:VEVENT
DTSTART:20171116T000000Z
DTEND:20171116T020000Z
X-MICROSOFT-CDO-ALLDAYEVENT:FALSE
SUMMARY:100+ Women Who Care
DESCRIPTION:Come and listen to a presentation from each of these organizations about their programs and mission: * Hatfield Fire Company * CCATE * Generations One of the three organizations will be awarded a monetary contribution voted on by the members of the organization.
X-ALT-DESC;FMTTYPE=text/html:Come and listen to a presentation from each of these organizations about their programs and mission: * Hatfield Fire Company * CCATE * Generations One of the three organizations will be awarded a monetary contribution voted on by the members of the organization.
LOCATION:North Penn Commons 606 East Main Street\, Lansdale\, PA 19446
UID:e.2385.2647
SEQUENCE:3
DTSTAMP:20260421T111906Z
URL:https://business.chambergmc.org/events/details/100-women-who-care-11-15-2017-2647
END:VEVENT

END:VCALENDAR
