BEGIN:VCALENDAR
VERSION:2.0
PRODID:-//ChamberMaster//Event Calendar 2.0//EN
METHOD:PUBLISH
X-PUBLISHED-TTL:P3D
REFRESH-INTERVAL:P3D
CALSCALE:GREGORIAN
BEGIN:VEVENT
DTSTART:20190127T180000Z
DTEND:20190127T210000Z
X-MICROSOFT-CDO-ALLDAYEVENT:FALSE
SUMMARY:11th Annual Super Camp Fair - MetroKids Magazine - Philly & Western Suburbs
DESCRIPTION:Plymouth Meeting Mall (500 W Germantown Pike\, Plymouth Meeting\, Pennsylvania 19462 if they ask for an address) Description: Summer is coming--join us at our FREE DAY OF FAMILY FUN\, the 11th Annual Super Camp Fair on January 27th at the Plymouth Meeting Mall. Camp staff sharing interactive displays\, activities & advice. From art\, science and sports camps to technology\, theatre and academic enrichment programs\, this year's array of camps promises something for every child and every interest. Experience live animals from Elmwood Park Zoo\, caricatures drawn by Mr. David C. Perry and more! #SuperCampFair #MetroKidsCampFair The first 100 families to pre-register get a free "stuffed" goodie bag! Pre-register here: http://www.metrokids.com/MetroKids/Super-Camp-Fair/Super-Camp-Fair-Advance-Registration/
X-ALT-DESC;FMTTYPE=text/html:Plymouth Meeting Mall (500 W Germantown Pike\, Plymouth Meeting\, Pennsylvania 19462 if they ask for an address) Description: Summer is coming--join us at our FREE DAY OF FAMILY FUN\, the 11th Annual Super Camp Fair on January 27th at the Plymouth Meeting Mall. Camp staff sharing interactive displays\, activities &amp\; advice. From art\, science and sports camps to technology\, theatre and academic enrichment programs\, this year&rsquo\;s array of camps promises something for every child and every interest. Experience live animals from Elmwood Park Zoo\, caricatures drawn by Mr. David C. Perry and more! #SuperCampFair #MetroKidsCampFair The first 100 families to pre-register get a free &quot\;stuffed&quot\; goodie bag! Pre-register here: http://www.metrokids.com/MetroKids/Super-Camp-Fair/Super-Camp-Fair-Advance-Registration/
LOCATION:Plymouth Meeting Mall 500 W Germantown Pike\, Plymouth Meeting\, Pennsylvania 19462
UID:e.2385.8163
SEQUENCE:3
DTSTAMP:20260422T071032Z
URL:https://business.chambergmc.org/events/details/11th-annual-super-camp-fair-metrokids-magazine-philly-western-suburbs-8163
END:VEVENT

END:VCALENDAR
