BEGIN:VCALENDAR
VERSION:2.0
PRODID:-//ChamberMaster//Event Calendar 2.0//EN
METHOD:PUBLISH
X-PUBLISHED-TTL:P3D
REFRESH-INTERVAL:P3D
CALSCALE:GREGORIAN
BEGIN:VEVENT
DTSTART:20180322T220000Z
DTEND:20180323T010000Z
X-MICROSOFT-CDO-ALLDAYEVENT:FALSE
SUMMARY:11th Annual Taste!
DESCRIPTION:Join the Kelly Anne Dolan Memorial Fund and Fox29's Sue Serio at our popular food and beverage tasting event\, taste2018 presented by ASTM International! This signature event brings together hundreds of supporters to savor offerings from more than 30 of the area's most popular restaurant and beverage vendors.\n\nProceeds from this event provide relief to families caring for sick and disabled children through small grants to pay for essentials not covered by insurance.
X-ALT-DESC;FMTTYPE=text/html:Join the Kelly Anne Dolan Memorial Fund and Fox29&rsquo\;s Sue Serio at our popular food and beverage tasting event\,&nbsp\;<em>taste2018&nbsp\;</em>presented by ASTM International!&nbsp\;This signature event brings together hundreds of supporters to savor offerings from more than 30 of the area&#39\;s most popular restaurant and beverage vendors.<br />\nProceeds from this event provide relief to families caring for sick and disabled children through small grants to pay for essentials not covered by insurance.
LOCATION:Normandy Farm 1401 Morris Road Blue Bell\, PA
UID:e.2385.3250
SEQUENCE:3
DTSTAMP:20260421T174548Z
URL:https://business.chambergmc.org/events/details/11th-annual-taste-03-22-2018-3250
END:VEVENT

END:VCALENDAR
