BEGIN:VCALENDAR
VERSION:2.0
PRODID:-//ChamberMaster//Event Calendar 2.0//EN
METHOD:PUBLISH
X-PUBLISHED-TTL:P3D
REFRESH-INTERVAL:P3D
CALSCALE:GREGORIAN
BEGIN:VEVENT
DTSTART:20180808T213000Z
DTEND:20180809T003000Z
X-MICROSOFT-CDO-ALLDAYEVENT:FALSE
SUMMARY:13th Annual Legs for Lindsey 5K and Fun Run/Walk
DESCRIPTION:Join us for the 13th Annual Legs for Lindsey 5K and Fun Run supporting the people and programs at Sebastian Ridiing Associates (SRA).  SRA is a community based non profit providing equine assisted learning and therapy programs for individuals living with varied disabilities.   Improving the quality of life of our students with the help of a horse.   You can help make that happen\, please register today!
X-ALT-DESC;FMTTYPE=text/html:Join us for the 13th Annual Legs for Lindsey 5K and Fun Run supporting the people and programs at Sebastian Ridiing Associates (SRA).&nbsp\; SRA is a community based non profit providing equine assisted learning and therapy programs for individuals living with varied disabilities.&nbsp\; &nbsp\;Improving the quality of life of our students with the help of a horse.&nbsp\;&nbsp\; You can help make that happen\, please register today!
LOCATION:Race route is along the beautiful Perkiomen Trail with the start and finish at the campus of SEI Investments at 100 Cider Mill Road\, Oaks PA.
UID:e.2385.7864
SEQUENCE:3
DTSTAMP:20260421T230702Z
URL:https://business.chambergmc.org/events/details/13th-annual-legs-for-lindsey-5k-and-fun-run-walk-7864
END:VEVENT

END:VCALENDAR
