BEGIN:VCALENDAR
VERSION:2.0
PRODID:-//ChamberMaster//Event Calendar 2.0//EN
METHOD:PUBLISH
X-PUBLISHED-TTL:P3D
REFRESH-INTERVAL:P3D
CALSCALE:GREGORIAN
BEGIN:VEVENT
DTSTART:20180412T210000Z
DTEND:20180412T230000Z
X-MICROSOFT-CDO-ALLDAYEVENT:FALSE
SUMMARY:1776 at Ambler Yards Grand Opening Celebration
DESCRIPTION:Mark your calendars for the Grand Opening of 1776 at Ambler Yards. Besides opening the doors of Montgomery County's newest entrepreneurial ecosystem\, we are celebrating the official merger of Benjamin's Desk and 1776\, who have joined forces to provide greater support for entrepreneurs throughout the Northeast Corridor.\n\n\n\n1776 aims to provide mobile professionals\, consultants\, entrepreneurs and startups across a range of industries with more than just office space. Members are given access to capital resources\, economic partners\, high-profile networking events\, and more all with the explicit goal of helping them grow. 1776 is focused on helping high-growth startups in the industries most challenging to drive innovation and scale  education\, energy and sustainability\, health\, transportation and cities.\n\n \n\nThe event will culminate with a fireside chat featuring two of Greater Philadelphia's tech ecosystem champions: Serial entrepreneur (and Ambler native)\, Ned Moore- Chairman and CEO of Clutch\, and highly recognized investor\, Michael Golden- formerly of GSI Commerce. 1776 Co-CEO\, Anthony Maher\, will moderate the fireside chat.  Refreshments from local partners - Whole Foods\, 'feine Coffee\, Banh Street and more will be served following brief remarks and a ribbon cutting.
X-ALT-DESC;FMTTYPE=text/html:<p>Mark your calendars for the Grand Opening of 1776 at Ambler Yards. Besides opening the doors of Montgomery County&rsquo\;s newest entrepreneurial ecosystem\, we are celebrating the official merger of Benjamin&rsquo\;s Desk and 1776\, who have joined forces to provide greater support for entrepreneurs throughout the Northeast Corridor.<br />\n<br />\n1776 aims to provide mobile professionals\, consultants\, entrepreneurs and startups across a range of industries with more than just office space. Members are given access to capital resources\, economic partners\, high-profile networking events\, and more&mdash\;all with the explicit goal of helping them grow.&nbsp\;1776 is focused on helping high-growth startups in the industries most challenging to drive innovation and scale &mdash\;education\, energy and sustainability\, health\, transportation and cities.</p>\n\n<p>&nbsp\;</p>\n\n<p>The event will culminate with a fireside chat featuring two of Greater Philadelphia&rsquo\;s tech ecosystem champions: Serial entrepreneur (and Ambler native)\, Ned Moore- Chairman and CEO of Clutch\, and highly recognized investor\, Michael Golden- formerly of GSI Commerce. 1776 Co-CEO\, Anthony Maher\, will moderate the fireside chat.&nbsp\; Refreshments from local partners - Whole Foods\, &lsquo\;feine Coffee\, Banh Street and more will be served following brief remarks and a ribbon cutting.</p>\n
LOCATION:The event will be held at Ambler Yards\, Building 4\, 300 Brookside Ave.\, Ambler\, PA 19002.
UID:e.2385.6321
SEQUENCE:3
DTSTAMP:20260421T174911Z
URL:https://business.chambergmc.org/events/details/1776-at-ambler-yards-grand-opening-celebration-04-12-2018-6321
END:VEVENT

END:VCALENDAR
