BEGIN:VCALENDAR
VERSION:2.0
PRODID:-//ChamberMaster//Event Calendar 2.0//EN
METHOD:PUBLISH
X-PUBLISHED-TTL:P3D
REFRESH-INTERVAL:P3D
CALSCALE:GREGORIAN
BEGIN:VEVENT
DTSTART:20180407T130000Z
DTEND:20180407T160000Z
X-MICROSOFT-CDO-ALLDAYEVENT:FALSE
SUMMARY:18th Annual Montgomery County Wellness Expo
DESCRIPTION:Join us for a healthful morning of FREE medical screenings\, wellness information\, and practical advice.\n\nTell a friend and bring the family!\n\nFree Screenings and Resources\n\n  Blood Pressure Screening\n\n  Body Fat Analysis\n\n  Cardiovascular Health\n\n  CPR/AED Demonstrations\n\n  Dental Health\n\n  Hearing Screening\n\n  Vision Screening\n\n  Nutritional/Weight Management\n\n  Home Health Services\n\n  Skin Cancer Screening\n\n  Speech Screening\n\n  Lung/Pulmonary Health\n\n  Smoking Cessation\n\n  Stress Management\n\n  Bone Health\n\n  Pain Management\n\n  Physical Therapy\n\n\n\nAlso featuring the Cancer Care team at Einstein Medical Center Montgomery.  Staff will be available to talk about preventive care\, free screening resources\, and answer any questions.\n\n\n\nSponsored by:\n\nEinstein Medical Center Montgomery\n\nRotary Club of Blue Bell\n\nMontgomery County Community College
X-ALT-DESC;FMTTYPE=text/html:Join us for a healthful morning of FREE medical screenings\, wellness information\, and practical advice.<br />\n<em>Tell a friend and bring the family!</em><br />\n<strong>Free Screenings and Resources</strong><br />\n&#1048715\; Blood Pressure Screening<br />\n&#1048715\; Body Fat Analysis<br />\n&#1048715\; Cardiovascular Health<br />\n&#1048715\; CPR/AED Demonstrations<br />\n&#1048715\; Dental Health<br />\n&#1048715\; Hearing Screening<br />\n&#1048715\; Vision Screening<br />\n&#1048715\; Nutritional/Weight Management<br />\n&#1048715\; Home Health Services<br />\n&#1048715\; Skin Cancer Screening<br />\n&#1048715\; Speech Screening<br />\n&#1048715\; Lung/Pulmonary Health<br />\n&#1048715\; Smoking Cessation<br />\n&#1048715\; Stress Management<br />\n&#1048715\; Bone Health<br />\n&#1048715\; Pain Management<br />\n&#1048715\; Physical Therapy<br />\n<br />\nAlso featuring the Cancer Care team at Einstein Medical Center Montgomery.&nbsp\; Staff will be available to talk about preventive care\, free screening resources\, and answer any questions.<br />\n<br />\n<em><strong>Sponsored by:</strong></em><br />\nEinstein Medical Center Montgomery<br />\nRotary Club of Blue Bell<br />\nMontgomery County Community College
LOCATION:Montgomery County Community College
UID:e.2385.4306
SEQUENCE:3
DTSTAMP:20260421T174754Z
URL:https://business.chambergmc.org/events/details/18th-annual-montgomery-county-wellness-expo-04-07-2018-4306
END:VEVENT

END:VCALENDAR
