BEGIN:VCALENDAR
VERSION:2.0
PRODID:-//ChamberMaster//Event Calendar 2.0//EN
METHOD:PUBLISH
X-PUBLISHED-TTL:P3D
REFRESH-INTERVAL:P3D
CALSCALE:GREGORIAN
BEGIN:VEVENT
DTSTART:20171104T133000Z
DTEND:20171104T190000Z
X-MICROSOFT-CDO-ALLDAYEVENT:FALSE
SUMMARY:2017 Christmas Craft Bazaar
DESCRIPTION:The Holiday Season is fast approaching and Elm Terrace Gardens will be hosting our thirty second annual Christmas Craft Bazaar on Saturday November 4\, 2017 from 9:30 am to 3:00 pm. Elm Terrace Gardens annual Christmas Craft Bazaar features\, many local area crafters\, a silent auction\, baked goods\, jewelry\, lunch from 11:00 am 1:00 pm\, and door prize drawings at 3pm for those who attend. We welcome your support for our Christmas Craft Bazaar fundraising event this year. Contact Traci Connelly\, for more information. 215-361-5606. Many community residents attend this fundraising event each year. The funds raised will go towards the purchase of furniture for our new memory support households. The furniture in the common space of these households will help to make their home cozy and inviting. We hope you can come!
X-ALT-DESC;FMTTYPE=text/html:The Holiday Season is fast approaching and Elm Terrace Gardens will be hosting our thirty second annual Christmas Craft Bazaar on Saturday November 4\, 2017 from 9:30 am to 3:00 pm. Elm Terrace Gardens annual Christmas Craft Bazaar features\, many local area crafters\, a silent auction\, baked goods\, jewelry\, lunch from 11:00 am 1:00 pm\, and door prize drawings at 3pm for those who attend. We welcome your support for our Christmas Craft Bazaar fundraising event this year. Contact Traci Connelly\, for more information. 215-361-5606. Many community residents attend this fundraising event each year. The funds raised will go towards the purchase of furniture for our new memory support households. The furniture in the common space of these households will help to make their home cozy and inviting. We hope you can come!
LOCATION:Elm Terrace Gardens Life Plan Community
UID:e.2385.2615
SEQUENCE:3
DTSTAMP:20260421T111120Z
URL:https://business.chambergmc.org/events/details/2017-christmas-craft-bazaar-11-04-2017-2615
END:VEVENT

END:VCALENDAR
