BEGIN:VCALENDAR
VERSION:2.0
PRODID:-//ChamberMaster//Event Calendar 2.0//EN
METHOD:PUBLISH
X-PUBLISHED-TTL:P3D
REFRESH-INTERVAL:P3D
CALSCALE:GREGORIAN
BEGIN:VEVENT
DTSTART:20180511T213000Z
DTEND:20180512T020000Z
X-MICROSOFT-CDO-ALLDAYEVENT:FALSE
SUMMARY:2018 Superheroes UNITE Gala
DESCRIPTION:Fundraising event for the United Way.
X-ALT-DESC;FMTTYPE=text/html:Fundraising event for the United Way.
LOCATION:Grand Ballroom at the Valley Forge Casino 1160 1st Avenue\, King of Prussia
UID:e.2385.6662
SEQUENCE:3
DTSTAMP:20260421T190529Z
URL:https://business.chambergmc.org/events/details/2018-superheroes-unite-gala-05-11-2018-6662
END:VEVENT

END:VCALENDAR
