BEGIN:VCALENDAR
VERSION:2.0
PRODID:-//ChamberMaster//Event Calendar 2.0//EN
METHOD:PUBLISH
X-PUBLISHED-TTL:P3D
REFRESH-INTERVAL:P3D
CALSCALE:GREGORIAN
BEGIN:VEVENT
DTSTART:20180711T220000Z
DTEND:20180712T003000Z
X-MICROSOFT-CDO-ALLDAYEVENT:FALSE
SUMMARY:24th Annual Moyer 5K Race\, Kids' Run & Fitness Walk
DESCRIPTION:Join Moyer Indoor | Outdoor on Wednesday\, July 11\, 2018\, for the 24th Annual 5K race\, Kids' Run\, and Fitness Walk. The event will begin at 6:00pm at Souderton Community Park. The Kids 1K will begin at 6:30. 5K Race Starts at 7:00 pm. About the Event: -- Every participant receives a designed t-shirt to commemorate the event! - Plenty of water and music throughout the course to keep your energy level high. - Pizza\, popsicles\, water and more after you cross the finish line! - We'll also have plenty of 5 year age group awards to give away! Current customers are eligible to receive a $5.00 discount off of all registration fees. Only if you are a Moyer Indoor|Outdoor customer should you select one of the CUSTOMER DISCOUNT options. The proceeds from The Moyer Indoor Outdoor 5K benefit Souderton Area HS Cross-Country Scholarships!
X-ALT-DESC;FMTTYPE=text/html:Join Moyer Indoor | Outdoor on Wednesday\, July 11\, 2018\, for the 24th Annual 5K race\, Kids&#39\; Run\, and Fitness Walk. The event will begin at 6:00pm at Souderton Community Park. The Kids 1K will begin at 6:30. 5K Race Starts at 7:00 pm. About the Event: -- Every participant receives a designed t-shirt to commemorate the event! - Plenty of water and music throughout the course to keep your energy level high. - Pizza\, popsicles\, water and more after you cross the finish line! - We&rsquo\;ll also have plenty of 5 year age group awards to give away! Current customers are eligible to receive a $5.00 discount off of all registration fees. Only if you are a Moyer Indoor|Outdoor customer should you select one of the CUSTOMER DISCOUNT options. The proceeds from The Moyer Indoor Outdoor 5K benefit Souderton Area HS Cross-Country Scholarships!
LOCATION:pin Souderton Borough Park 460 Wile Ave\, Souderton\, Pennsylvania 18964
UID:e.2385.7699
SEQUENCE:3
DTSTAMP:20260421T214644Z
URL:https://business.chambergmc.org/events/details/24th-annual-moyer-5k-race-kids-run-fitness-walk-7699
END:VEVENT

END:VCALENDAR
