BEGIN:VCALENDAR
VERSION:2.0
PRODID:-//ChamberMaster//Event Calendar 2.0//EN
METHOD:PUBLISH
X-PUBLISHED-TTL:P3D
REFRESH-INTERVAL:P3D
CALSCALE:GREGORIAN
BEGIN:VEVENT
DTSTART:20210411T040000Z
DTEND:20210418T035500Z
X-MICROSOFT-CDO-ALLDAYEVENT:FALSE
SUMMARY:25 Miles in My Shoes
DESCRIPTION:Join the Kids-N-Hope Foundation at our inaugural Walk-A-Thon\, 25 Miles in My Shoes! This year\, the Kids-N-Hope Foundation celebrates 25 years of enhancing children's health and life services through music therapy at hospitals and not-for-profit organizations. Help us celebrate this tremendous milestone by walking 25 miles during this 7-day virtual event! Register today at www.KNHWalk.org! When: Sunday\, April 11\, 2021 through Saturday\, April 17\, 2021. Who: Join in on the fun help and us raise money by creating your own team and inviting family\, friends and community members to participate in this fun event to support the mission of our Kids-N-Hope Foundation. Where: During this 7-day virtual event\, participants can walk as little or as much as they like daily at a location of their choosing to achieve their 25-mile goal. What: The Kids-N-Hope Foundation enhances children's health and life services through music therapy at hospitals and not-for-profit organizations. Join in on the fun and help us reach our fundraising goal of $60\,000!
X-ALT-DESC;FMTTYPE=text/html:Join the Kids-N-Hope Foundation at our inaugural Walk-A-Thon\, 25 Miles in My Shoes! This year\, the Kids-N-Hope Foundation celebrates 25 years of enhancing children&rsquo\;s health and life services through music therapy at hospitals and not-for-profit organizations. Help us celebrate this tremendous milestone by walking 25 miles during this 7-day virtual event! Register today at www.KNHWalk.org! When: Sunday\, April 11\, 2021 through Saturday\, April 17\, 2021. Who: Join in on the fun help and us raise money by creating your own team and inviting family\, friends and community members to participate in this fun event to support the mission of our Kids-N-Hope Foundation. Where: During this 7-day virtual event\, participants can walk as little or as much as they like daily at a location of their choosing to achieve their 25-mile goal. What: The Kids-N-Hope Foundation enhances children&rsquo\;s health and life services through music therapy at hospitals and not-for-profit organizations. Join in on the fun and help us reach our fundraising goal of $60\,000!
LOCATION:Virtual Event\, Register at www.KNHWalk.org!
UID:e.2385.11051
SEQUENCE:3
DTSTAMP:20260422T183020Z
URL:https://business.chambergmc.org/events/details/25-miles-in-my-shoes-11051
END:VEVENT

END:VCALENDAR
