BEGIN:VCALENDAR
VERSION:2.0
PRODID:-//ChamberMaster//Event Calendar 2.0//EN
METHOD:PUBLISH
X-PUBLISHED-TTL:P3D
REFRESH-INTERVAL:P3D
CALSCALE:GREGORIAN
BEGIN:VEVENT
DTSTART:20180512T113000Z
DTEND:20180512T190000Z
X-MICROSOFT-CDO-ALLDAYEVENT:FALSE
SUMMARY:2nd Annual Bike Southern Chester County
DESCRIPTION:Please join us for the second annual Bike Southern Chester County.  3 routes available for cycling through beautiful Southern Chester County\, PA   see lovely farmland\, grazing horses\, scenic woods with rushing creeks and rolling hills. Combine 2 routes to make a longer ride!   RIDE INCLUDES: Two rest stops with food and drink (35 and 50 mile only)\, lunch for all riders\, SAG support vehicle\, well-marked routes as well as cue sheets. First 100 riders get a free water bottle.   Helmets required!   Sponsored by: Eye to Eye Ophthalmology\, Ringer Enterprises\, Tycor Benefits\, Herr Foods\, Fitchett Chiropractic and McGovern Septic Volunteer and sponsorship positions still available. Contact Lonnie Luscavage\, MD 610.347.1200
X-ALT-DESC;FMTTYPE=text/html:Please join us for the second annual Bike Southern Chester County. &nbsp\;3 routes available for cycling through beautiful Southern Chester County\, PA &ndash\; see lovely farmland\, grazing horses\, scenic woods with rushing creeks and rolling hills. Combine 2 routes to make a longer ride! &nbsp\; RIDE INCLUDES: Two rest stops with food and drink (35 and 50 mile only)\, lunch for all riders\, SAG support vehicle\, well-marked routes as well as cue sheets. First 100 riders get a free water bottle. &nbsp\; Helmets required! &nbsp\; Sponsored by: Eye to Eye Ophthalmology\, Ringer Enterprises\, Tycor Benefits\, Herr Foods\, Fitchett Chiropractic and McGovern Septic Volunteer and sponsorship positions still available. Contact Lonnie Luscavage\, MD 610.347.1200
LOCATION:8 (family route)\, 35 & 50 mile routes begin at Ride begins in the West Grove United Methodist Church\, 300 N. Guernsey Rd\, West Grove\, PA 19390 parking lot.
UID:e.2385.3256
SEQUENCE:3
DTSTAMP:20260421T190758Z
URL:https://business.chambergmc.org/events/details/2nd-annual-bike-southern-chester-county-05-12-2018-3256
END:VEVENT

END:VCALENDAR
