BEGIN:VCALENDAR
VERSION:2.0
PRODID:-//ChamberMaster//Event Calendar 2.0//EN
METHOD:PUBLISH
X-PUBLISHED-TTL:P3D
REFRESH-INTERVAL:P3D
CALSCALE:GREGORIAN
BEGIN:VEVENT
DTSTART:20190327T230000Z
DTEND:20190328T010000Z
X-MICROSOFT-CDO-ALLDAYEVENT:FALSE
SUMMARY:2nd Annual Celebration of Women in Horticulture
DESCRIPTION:Register Online\n\n\n\nFrom the temple gardens of Mesopotamia to the household gardens at Pompeii\, archaeologists have uncovered exciting evidence for ancient gardens and the plant species they once contained.\n\n\n\nDr. Chantel White\, archaeobotanist at the Penn Museum of Archaeology & Anthropology\, will discuss how plant remains are preserved in garden contexts (and\, in some cases\, even grown from archaeological seeds!). She will discuss her recent archaeobotanical work in the nineteenth-century gardens of American poet Emily Dickinson located in Amherst\, MA and the plant remains recently studied from Bartram's eighteenth-century home that provide intriguing evidence for early garden activities in historical Philadelphia.\n\n\n\nThis annual event recognizes women in the field of horticulture who epitomize the founding principles of the Pennsylvania School of Horticulture for Women (PSHW). The women recognized and presenting each year embody the "educated and earnest-minded women" with "trained hands and trained minds" that were the product of the PSHW. The presenters represent women who continue to do work in the field while advancing the profession and science of horticulture.\n\n\n\nThis program is being presented in partnership with Women in Horticulture of the Delaware Valley.
X-ALT-DESC;FMTTYPE=text/html:<span style="font-size:14px"><span style="font-family:arial\,helvetica\,sans-serif"><strong><a href="https://noncredit.temple.edu/series2019" target="_blank">Register Online</a></strong><br />\n<br />\n<span style="color:black">From the temple gardens of Mesopotamia to the household gardens at Pompeii\, archaeologists have uncovered exciting evidence for ancient gardens and the plant species they once contained.<br />\n<br />\nDr. Chantel White\,&nbsp\;</span></span></span><span style="color:black"><span style="font-family:arial\,sans-serif"><span style="font-size:10.0pt"><span style="font-size:14px"><span style="font-family:arial\,helvetica\,sans-serif">archaeobotanist</span></span><span style="font-size:14px"><span style="font-family:arial\,helvetica\,sans-serif"> at the Penn Museum of Archaeology &amp\; Anthropology\, will discuss how plant remains are preserved in garden contexts (and\, in some cases\, even grown from archaeological seeds!). She will discuss her recent archaeobotanical work in the nineteenth-century gardens of American poet Emily Dickinson located in Amherst\, MA </span></span><span style="font-size:14px"><span style="font-family:arial\,helvetica\,sans-serif">and</span></span></span></span></span><span style="font-size:14px"><span style="font-family:arial\,helvetica\,sans-serif"><span style="color:black"> </span>the plant remains recently studied from Bartram&rsquo\;s eighteenth-century home that provide intriguing evidence for early garden activities in </span></span><span style="font-family:arial\,sans-serif"><span style="font-size:10.0pt"><span style="font-size:14px"><span style="font-family:arial\,helvetica\,sans-serif">historical</span></span></span></span><span style="font-size:14px"><span style="font-family:arial\,helvetica\,sans-serif"> Philadelphia.<br />\n<br />\n<span style="color:black">This annual event recognizes women in the field of horticulture who epitomize the founding principles of the Pennsylvania School of Horticulture for Women (PSHW). The women recognized and presenting each year embody the &ldquo\;educated and earnest-minded women&rdquo\; with &ldquo\;trained hands and trained minds&rdquo\; that were the product of the PSHW. The presenters represent women who continue to do work in the field while advancing the profession and science of horticulture.<br />\n<br />\nThis program is being presented in partnership with&nbsp\;</span><strong><a href="https://www.womeninhorticulture.com/" target="_blank">Women in Horticulture of the Delaware Valley</a></strong><span style="color:black">.&nbsp\;</span></span></span>
LOCATION:Temple University Ambler\, Learning Center Auditorium\, 580 Meetinghouse Road\, Ambler\, PA 19002
UID:e.2385.3253
SEQUENCE:3
DTSTAMP:20260422T095038Z
URL:https://business.chambergmc.org/events/details/2nd-annual-celebration-of-women-in-horticulture-3253
END:VEVENT

END:VCALENDAR
