BEGIN:VCALENDAR
VERSION:2.0
PRODID:-//ChamberMaster//Event Calendar 2.0//EN
METHOD:PUBLISH
X-PUBLISHED-TTL:P3D
REFRESH-INTERVAL:P3D
CALSCALE:GREGORIAN
BEGIN:VEVENT
DTSTART:20180428T230000Z
DTEND:20180429T020000Z
X-MICROSOFT-CDO-ALLDAYEVENT:FALSE
SUMMARY:2nd Murder Mystery Night
DESCRIPTION:Saturday April 28th - 2nd Murder Mystery Night. 50s themed. $45 per person (dinner included) Alcohol additional. To Learn More: https://kazzit.com/event/2nd-murder-mystery-night.html
X-ALT-DESC;FMTTYPE=text/html:Saturday April 28th - 2nd Murder Mystery Night. 50s themed. $45 per person (dinner included) Alcohol additional. To Learn More: https://kazzit.com/event/2nd-murder-mystery-night.html
LOCATION:Cardinal Hollow 1830 West Point Pike\, West Point\, PA 19446
UID:e.2385.5313
SEQUENCE:3
DTSTAMP:20260421T190432Z
URL:https://business.chambergmc.org/events/details/2nd-murder-mystery-night-04-28-2018-5313
END:VEVENT

END:VCALENDAR
