BEGIN:VCALENDAR
VERSION:2.0
PRODID:-//ChamberMaster//Event Calendar 2.0//EN
METHOD:PUBLISH
X-PUBLISHED-TTL:P3D
REFRESH-INTERVAL:P3D
CALSCALE:GREGORIAN
BEGIN:VEVENT
DTSTART:20180723T120000Z
DTEND:20180723T120500Z
X-MICROSOFT-CDO-ALLDAYEVENT:FALSE
SUMMARY:3-Minute Shopping Spree
DESCRIPTION:Garden of Health is selling raffle tickets for a chance to win a 3 minute shopping spree at Wegman's in Montgomeryville. We will pull the winner on July 16th. The shopping spree will occur at 8 am on July 23rd. Alcohol is excluded.  Cost is $5 per ticket. There will be one winner. Winner must follow all rules put in place by Wegman's. How much can you put in a cart in 3 minutes?
X-ALT-DESC;FMTTYPE=text/html:Garden of Health is selling raffle tickets for a chance to win a 3 minute shopping spree at Wegman&#39\;s in Montgomeryville. We will pull the winner on July 16th. The shopping spree will occur at 8 am on July 23rd. Alcohol is excluded.&nbsp\; Cost is $5 per ticket. There will be one winner. Winner must follow all rules put in place by Wegman&#39\;s. How much can you put in a cart in 3 minutes?
LOCATION:Wegman's Montgomeryville 500 Montgomery Mall North Wales PA
UID:e.2385.7729
SEQUENCE:3
DTSTAMP:20260421T214033Z
URL:https://business.chambergmc.org/events/details/3-minute-shopping-spree-7729
END:VEVENT

END:VCALENDAR
