BEGIN:VCALENDAR
VERSION:2.0
PRODID:-//ChamberMaster//Event Calendar 2.0//EN
METHOD:PUBLISH
X-PUBLISHED-TTL:P3D
REFRESH-INTERVAL:P3D
CALSCALE:GREGORIAN
BEGIN:VEVENT
DTSTART:20190704T140000Z
DTEND:20190704T210000Z
X-MICROSOFT-CDO-ALLDAYEVENT:FALSE
SUMMARY:4th of July Open House
DESCRIPTION:As an Independent Brewery\, Independence Day hits home for us and we plan to CELEBRATE the freedoms that allow us to pursue our passions! The Brewhouse will be rockin from 10am-5pm! - Premium Parade View from the porch/ Lot - Live Music - Food - FUN! With Brotherly Love\, Basil and Kevin
X-ALT-DESC;FMTTYPE=text/html:As an Independent Brewery\, Independence Day hits home for us and we plan to CELEBRATE the freedoms that allow us to pursue our passions! The Brewhouse will be rockin from 10am-5pm! - Premium Parade View from the porch/ Lot - Live Music - Food - FUN! With Brotherly Love\, Basil and Kevin
LOCATION:Brothers Kershner Brewing Co. 4119 Skippack Pike Skippack\, PA 19474
UID:e.2385.8830
SEQUENCE:3
DTSTAMP:20260422T141104Z
URL:https://business.chambergmc.org/events/details/4th-of-july-open-house-8830
END:VEVENT

END:VCALENDAR
