BEGIN:VCALENDAR
VERSION:2.0
PRODID:-//ChamberMaster//Event Calendar 2.0//EN
METHOD:PUBLISH
X-PUBLISHED-TTL:P3D
REFRESH-INTERVAL:P3D
CALSCALE:GREGORIAN
BEGIN:VEVENT
DTSTART:20200701T230000Z
DTEND:20200702T000000Z
X-MICROSOFT-CDO-ALLDAYEVENT:FALSE
SUMMARY:5 Ways Technology Will Change How You Age
DESCRIPTION:I am hosting an informational seminar called "5 Ways Technology Will Change How You Age". The seminar is geared toward assisting you on how technology can help you stay mobile\, healthy and connected as they age. This is a great informational seminar for adults with aging parents or adults who are aging and are concerned about how they will adjust as they enter into the later stages of their lives. You will not be disappointed in the content.\n\n\n\nPlease RSVP: Pete Bednarek (pbednarek@ml.com or 215-340-3350)
X-ALT-DESC;FMTTYPE=text/html:I am hosting an informational seminar called &quot\;5 Ways Technology Will Change How You Age&quot\;. The seminar is geared toward assisting you on how technology can help you stay mobile\, healthy and connected as they age. This is a great informational seminar for adults with aging parents or adults who are aging and are concerned about how they will adjust as they enter into the later stages of their lives. You will not be disappointed in the content.<br />\n<br />\nPlease RSVP: Pete Bednarek (pbednarek@ml.com or 215-340-3350)
LOCATION:This is a virtual event via WebEx. Please register first and details will follow.
UID:e.2385.10106
SEQUENCE:3
DTSTAMP:20260423T055639Z
URL:https://business.chambergmc.org/events/details/5-ways-technology-will-change-how-you-age-10106
END:VEVENT

END:VCALENDAR
