BEGIN:VCALENDAR
VERSION:2.0
PRODID:-//ChamberMaster//Event Calendar 2.0//EN
METHOD:PUBLISH
X-PUBLISHED-TTL:P3D
REFRESH-INTERVAL:P3D
CALSCALE:GREGORIAN
BEGIN:VEVENT
DTSTART:20180428T230000Z
DTEND:20180429T013000Z
X-MICROSOFT-CDO-ALLDAYEVENT:FALSE
SUMMARY:50's Murder Mystery Dinner
DESCRIPTION:"The Case of Shaken\, Rattled and Rolled Reporter" Act 1 Productions joins us again for an evening of murder mystery. Dress in your best 50's and join this interactive evening of fun. Reservations required 267-640-9159
X-ALT-DESC;FMTTYPE=text/html:&quot\;The Case of Shaken\, Rattled and Rolled Reporter&quot\; Act 1 Productions joins us again for an evening of murder mystery. Dress in your best 50&#39\;s and join this interactive evening of fun. Reservations required 267-640-9159
LOCATION:Cardinal Hollow Winery 1830 West Point Pike Lansdale\, PA 19446
UID:e.2385.4298
SEQUENCE:3
DTSTAMP:20260421T190503Z
URL:https://business.chambergmc.org/events/details/50-s-murder-mystery-dinner-04-28-2018-4298
END:VEVENT

END:VCALENDAR
