BEGIN:VCALENDAR
VERSION:2.0
PRODID:-//ChamberMaster//Event Calendar 2.0//EN
METHOD:PUBLISH
X-PUBLISHED-TTL:P3D
REFRESH-INTERVAL:P3D
CALSCALE:GREGORIAN
BEGIN:VEVENT
DTSTART:20180805T123000Z
DTEND:20180805T141500Z
X-MICROSOFT-CDO-ALLDAYEVENT:FALSE
SUMMARY:5K Run and 3 K Walk for Domestic Violence Awareness - Help Us Get the Message Out!
DESCRIPTION:5K run or 3 K walk\, off track event to raise money to support our domestic violence program. Beach theme event with refreshments - soft pretzels\, water ice\, popcorn\, salt water taffy -\, DJ music\, face painting.\n\nSponsorship opportunities include opportunities for banner and course signage\, information table at event.
X-ALT-DESC;FMTTYPE=text/html:5K run or 3 K walk\, off track event to raise money to support our domestic violence program.&nbsp\;Beach theme event with refreshments - soft pretzels\, water ice\, popcorn\, salt water taffy -\, DJ music\, face painting.<br />\nSponsorship opportunities include opportunities for banner and course signage\, information table at event.
LOCATION:Germantown Academy - Carey Stadium 340 Morris Road Ft. Washington\, PA
UID:e.2385.7854
SEQUENCE:3
DTSTAMP:20260421T230806Z
URL:https://business.chambergmc.org/events/details/5k-run-and-3-k-walk-for-domestic-violence-awareness-help-us-get-the-message-out-7854
END:VEVENT

END:VCALENDAR
