BEGIN:VCALENDAR
VERSION:2.0
PRODID:-//ChamberMaster//Event Calendar 2.0//EN
METHOD:PUBLISH
X-PUBLISHED-TTL:P3D
REFRESH-INTERVAL:P3D
CALSCALE:GREGORIAN
BEGIN:VEVENT
DTSTART;VALUE=DATE:20181001
DTEND;VALUE=DATE:20181002
TRANSP:TRANSPARENT
X-MICROSOFT-CDO-ALLDAYEVENT:TRUE
SUMMARY:5th Annual Roger Kirk ALS Golf Outing hosted by Greg Gross
DESCRIPTION:On Monday\, October 1st\, supporters of the ALS Association Greater Philadelphia Chapter will come together to swing their way towards a cure. Morning Round: 6:15AM Registration\, 7:30AM Shotgun Start Afternoon Round: 11AM Registration\, 12:30PM Shotgun Start Lunch\, hors d'oeuvres\, auction and more! For more information regarding participation or sponsorship opportunities\, please contact Taylor Montgomery at taylor@alsphiladelphia.org
X-ALT-DESC;FMTTYPE=text/html:On Monday\, October 1st\, supporters of the ALS Association Greater Philadelphia Chapter will come together to swing their way towards a cure. Morning Round: 6:15AM Registration\, 7:30AM Shotgun Start Afternoon Round: 11AM Registration\, 12:30PM Shotgun Start Lunch\, hors d&#39\;oeuvres\, auction and more! For more information regarding participation or sponsorship opportunities\, please contact Taylor Montgomery at taylor@alsphiladelphia.org
LOCATION:Old York Road Country Club\, 801 Tennis Ave.\, Ambler\, PA 19002
UID:e.2385.7867
SEQUENCE:3
DTSTAMP:20260422T013924Z
URL:https://business.chambergmc.org/events/details/5th-annual-roger-kirk-als-golf-outing-hosted-by-greg-gross-7867
END:VEVENT

END:VCALENDAR
