BEGIN:VCALENDAR
VERSION:2.0
PRODID:-//ChamberMaster//Event Calendar 2.0//EN
METHOD:PUBLISH
X-PUBLISHED-TTL:P3D
REFRESH-INTERVAL:P3D
CALSCALE:GREGORIAN
BEGIN:VEVENT
DTSTART:20171114T130000Z
DTEND:20171114T153000Z
X-MICROSOFT-CDO-ALLDAYEVENT:FALSE
SUMMARY:A Morning of Learning with Jeff Bush
DESCRIPTION:A dynamic and insightful speaker\, Jeff Bush is known for his unique ability to decode difficult and confusing tax and fiscal information coming out of Washington. Jeff will speak on the following topics: -Understanding the new normal in D.C. -The GOP agenda for economic growth -Tax reform and the retail investor -Fiscal policy in the U.S. *Seating is limited for this exclusive event*
X-ALT-DESC;FMTTYPE=text/html:A dynamic and insightful speaker\, Jeff Bush is known for his unique ability to decode difficult and confusing tax and fiscal information coming out of Washington. Jeff will speak on the following topics: -Understanding the new normal in D.C. -The GOP agenda for economic growth -Tax reform and the retail investor -Fiscal policy in the U.S. *Seating is limited for this exclusive event*
LOCATION:The Conference Center at Valley Forge 1485 Valley Forge Road Phoenixville\, PA 19460
UID:e.2385.2649
SEQUENCE:3
DTSTAMP:20260421T123012Z
URL:https://business.chambergmc.org/events/details/a-morning-of-learning-with-jeff-bush-11-14-2017-2649
END:VEVENT

END:VCALENDAR
