BEGIN:VCALENDAR
VERSION:2.0
PRODID:-//ChamberMaster//Event Calendar 2.0//EN
METHOD:PUBLISH
X-PUBLISHED-TTL:P3D
REFRESH-INTERVAL:P3D
CALSCALE:GREGORIAN
BEGIN:VEVENT
DTSTART:20190210T160000Z
DTEND:20190210T220000Z
X-MICROSOFT-CDO-ALLDAYEVENT:FALSE
SUMMARY:AAA Lehigh Valley Travel Expo
DESCRIPTION:Trade Show: Sit with over 30 travel experts\, including local attractions and drive getaways\, cruse lines\, leading tour companies\, warm weather resorts and tourism companies\, rental and rail providers\, and more. Free Vacation Planning Seminars: Choose from over 20 different informational talks. Sit with a Travel Agent to plan your vacation - book at the Expo and receive a gift. Personal checks and credit cards are accepted. One-day sale offers. 11 AM to 5 PM Free parking and admission. Travel with someone you trust!
X-ALT-DESC;FMTTYPE=text/html:Trade Show: Sit with over 30 travel experts\, including local attractions and drive getaways\, cruse lines\, leading tour companies\, warm weather resorts and tourism companies\, rental and rail providers\, and more. Free Vacation Planning Seminars: Choose from over 20 different informational talks. Sit with a Travel Agent to plan your vacation - book at the Expo and receive a gift. Personal checks and credit cards are accepted. One-day sale offers. 11 AM to 5 PM Free parking and admission. Travel with someone you trust!
LOCATION:The Center at Holiday Inn Lehigh Valley Adrienne Drive Breinigsville\, PA
UID:e.2385.8165
SEQUENCE:3
DTSTAMP:20260422T081949Z
URL:https://business.chambergmc.org/events/details/aaa-lehigh-valley-travel-expo-8165
END:VEVENT

END:VCALENDAR
