BEGIN:VCALENDAR
VERSION:2.0
PRODID:-//ChamberMaster//Event Calendar 2.0//EN
METHOD:PUBLISH
X-PUBLISHED-TTL:P3D
REFRESH-INTERVAL:P3D
CALSCALE:GREGORIAN
BEGIN:VEVENT
DTSTART:20180726T210000Z
DTEND:20180726T230000Z
X-MICROSOFT-CDO-ALLDAYEVENT:FALSE
SUMMARY:Acupuncture Happy Hour
DESCRIPTION:Curious about Acupuncture?? Join us for a new kind of happy hour that with help you feel grounded and at peace. Kearney will be giving mini-acupuncture treatments in a group setting designed to help you combat stress\, release aches and awaken the own body's healing functions. Learn about the benefits of Acupuncture first hand.\n\n\n\nTreatments will be 20 minutes. Complimentary Wine & Snacks\n\nSession Start Times: \n\n5:00pm\, 5:30pm\, 6:00pm\, 6:30pm\n\n\n\nRSVP: Please call or email to book your spot- space is limited. Please arrive 5 minutes early.
X-ALT-DESC;FMTTYPE=text/html:<span style="color:rgb(29\, 33\, 41)\; font-family:helvetica\,arial\,sans-serif\; font-size:14px">Curious about Acupuncture?? Join us for a new kind of happy hour that with help you feel grounded and at peace.&nbsp\;</span><span style="color:rgb(29\, 33\, 41)\; font-family:helvetica\,arial\,sans-serif\; font-size:14px">Kearney will be giving mini-acupuncture treatments in a group setting designed to help you combat stress\, release aches and awaken the own body&#39\;s healing functions. Learn about the benefits of Acupuncture first hand.</span><br />\n<br />\n<span style="color:rgb(29\, 33\, 41)\; font-family:helvetica\,arial\,sans-serif\; font-size:14px">Treatments will be 20 minutes. Complimentary Wine &amp\; Snacks</span><br />\n<span style="color:rgb(29\, 33\, 41)\; font-family:helvetica\,arial\,sans-serif\; font-size:14px">Session Start Times:&nbsp\;</span><br />\n<span style="color:rgb(29\, 33\, 41)\; font-family:helvetica\,arial\,sans-serif\; font-size:14px">5:00pm\,&nbsp\;</span><span style="color:rgb(29\, 33\, 41)\; font-family:helvetica\,arial\,sans-serif\; font-size:14px">5:30pm\,&nbsp\;</span><span style="color:rgb(29\, 33\, 41)\; font-family:helvetica\,arial\,sans-serif\; font-size:14px">6:00pm\,&nbsp\;</span><span style="color:rgb(29\, 33\, 41)\; font-family:helvetica\,arial\,sans-serif\; font-size:14px">6:30pm</span><br />\n<br />\n<span style="color:rgb(29\, 33\, 41)\; font-family:helvetica\,arial\,sans-serif\; font-size:14px">RSVP: Please call or email to book your spot- space is limited. Please arrive 5 minutes early.</span>
LOCATION:Ground Luminosity Eastern Wellness Center
UID:e.2385.7814
SEQUENCE:3
DTSTAMP:20260421T214009Z
URL:https://business.chambergmc.org/events/details/acupuncture-happy-hour-7814
END:VEVENT

END:VCALENDAR
