BEGIN:VCALENDAR
VERSION:2.0
PRODID:-//ChamberMaster//Event Calendar 2.0//EN
METHOD:PUBLISH
X-PUBLISHED-TTL:P3D
REFRESH-INTERVAL:P3D
CALSCALE:GREGORIAN
BEGIN:VEVENT
DTSTART:20190628T150000Z
DTEND:20190628T200000Z
X-MICROSOFT-CDO-ALLDAYEVENT:FALSE
SUMMARY:Advent Security Corp 40 Year in Business Celebration!
DESCRIPTION:Advent Security Corp. 40th Anniversary Celebration Open House!\n\nYour invited to join us in celebrating our 40 years in business. Advent is hosting an open house to celebrate our 40th year in business on Friday\, June 28th between 11am and 4pm at Advent Security Corps office.\n\n\n\nThere will be Food\, Giveaways\, Music\, Raffle and Games. \n\n\n\nWe are giving back to the community by asking for non-perishable food and pet food for several of our non-profit clients. Come and meet the Advent staff and network with all that attend. \n\n\n\nAny questions please contact Tim Fagan at Advent Security: \n\nTimf@adventsecurity.com or 215-576-7111.
X-ALT-DESC;FMTTYPE=text/html:<span style="background-color:rgb(255\, 255\, 255)\; color:rgb(66\, 66\, 66)\; font-family:arial\,helvetica\,sans-serif\; font-size:12px"><strong>Advent Security Corp. 40th Anniversary Celebration Open House!</strong><br />\nYour invited to join us in celebrating our 40 years in business. Advent is hosting an open house to celebrate our 40th year in business on Friday\, June 28th between 11am and 4pm at Advent Security Corps office.</span><br />\n<br />\n<span style="background-color:rgb(255\, 255\, 255)\; color:rgb(66\, 66\, 66)\; font-family:arial\,helvetica\,sans-serif\; font-size:12px">There will be Food\, Giveaways\, Music\, Raffle and Games.&nbsp\;</span><br />\n<br />\n<span style="background-color:rgb(255\, 255\, 255)\; color:rgb(66\, 66\, 66)\; font-family:arial\,helvetica\,sans-serif\; font-size:12px">We are giving back to the community by asking for non-perishable food and pet food for several of our non-profit clients. Come and meet the Advent staff and network with all that attend.&nbsp\;</span><br />\n<br />\n<span style="background-color:rgb(255\, 255\, 255)\; color:rgb(66\, 66\, 66)\; font-family:arial\,helvetica\,sans-serif\; font-size:12px">Any questions please contact Tim Fagan at Advent Security:&nbsp\;</span><br />\n<span style="background-color:rgb(255\, 255\, 255)\; color:rgb(66\, 66\, 66)\; font-family:arial\,helvetica\,sans-serif\; font-size:12px">Timf@adventsecurity.com or 215-576-7111.</span>
LOCATION:Location: 101 Roesch Avenue Oreland\, PA 19075
UID:e.2385.8818
SEQUENCE:3
DTSTAMP:20260422T123634Z
URL:https://business.chambergmc.org/events/details/advent-security-corp-40-year-in-business-celebration-8818
END:VEVENT

END:VCALENDAR
