BEGIN:VCALENDAR
VERSION:2.0
PRODID:-//ChamberMaster//Event Calendar 2.0//EN
METHOD:PUBLISH
X-PUBLISHED-TTL:P3D
REFRESH-INTERVAL:P3D
CALSCALE:GREGORIAN
BEGIN:VEVENT
DTSTART:20190723T211500Z
DTEND:20190723T230000Z
X-MICROSOFT-CDO-ALLDAYEVENT:FALSE
SUMMARY:All About the Monarch Butterfly
DESCRIPTION:Della Micah\, former Germantown Friends School College Counselor\, will give a presentation on the Monarch Butterfly's migration from Mexico to our very own Dixon Meadow Preserve! See how Della and others are helping to increase the repopulation efforts of this butterfly\, as they face decline due to declining milkweed as we use increased pesticides and what we can do to help stave this pattern. Cost is $5 per person - register online here: https://register.communitypass.net/reg/cat_program_list_detail.cfm?season_id=19254&program_id=999785 or call our office at 610-828-7276 to register over the phone.
X-ALT-DESC;FMTTYPE=text/html:Della Micah\, former Germantown Friends School College Counselor\, will give a presentation on the Monarch Butterfly&rsquo\;s migration from Mexico to our very own Dixon Meadow Preserve! See how Della and others are helping to increase the repopulation efforts of this butterfly\, as they face decline due to declining milkweed as we use increased pesticides and what we can do to help stave this pattern. Cost is $5 per person - register online here: https://register.communitypass.net/reg/cat_program_list_detail.cfm?season_id=19254&amp\;program_id=999785 or call our office at 610-828-7276 to register over the phone.
LOCATION:Dixon Meadow Preserve: 548 Flourtown Road
UID:e.2385.8840
SEQUENCE:3
DTSTAMP:20260422T140834Z
URL:https://business.chambergmc.org/events/details/all-about-the-monarch-butterfly-8840
END:VEVENT

END:VCALENDAR
