BEGIN:VCALENDAR
VERSION:2.0
PRODID:-//ChamberMaster//Event Calendar 2.0//EN
METHOD:PUBLISH
X-PUBLISHED-TTL:P3D
REFRESH-INTERVAL:P3D
CALSCALE:GREGORIAN
BEGIN:VEVENT
DTSTART:20180324T200000Z
DTEND:20180324T230000Z
X-MICROSOFT-CDO-ALLDAYEVENT:FALSE
SUMMARY:All You Can Eat German Dinner
DESCRIPTION:Celebrate German-American Partnership at North Montco Technical Career Center. Join us for a German-American Dinner Buffet prepared by American and German students. Dinner includes assorted sausages\, German potato salad\, red cabbage\, sauerkraut\, spatzle\, assorted desserts and much more!
X-ALT-DESC;FMTTYPE=text/html:Celebrate German-American Partnership at North Montco Technical Career Center. Join us for a German-American Dinner Buffet prepared by American and German students. Dinner includes assorted sausages\, German potato salad\, red cabbage\, sauerkraut\, spatzle\, assorted desserts and much more!
LOCATION:North Montco Technical Career Center 1265 Sumneytown Pike Lansdale\, PA 19446
UID:e.2385.3272
SEQUENCE:3
DTSTAMP:20260421T162935Z
URL:https://business.chambergmc.org/events/details/all-you-can-eat-german-dinner-03-24-2018-3272
END:VEVENT

END:VCALENDAR
