BEGIN:VCALENDAR
VERSION:2.0
PRODID:-//ChamberMaster//Event Calendar 2.0//EN
METHOD:PUBLISH
X-PUBLISHED-TTL:P3D
REFRESH-INTERVAL:P3D
CALSCALE:GREGORIAN
BEGIN:VEVENT
DTSTART:20190124T230000Z
DTEND:20190125T010000Z
X-MICROSOFT-CDO-ALLDAYEVENT:FALSE
SUMMARY:Ambiance Design's 10 Year Anniversary Party!
DESCRIPTION:Ambiance Design Invites You to Their 10 Year Anniversary Party! \n\n\n\nJoin us for a fun night of food and fellowship in celebrating 10 years of business!  We could not have done it without the love and support of our friends\, family\, and clients!  We cannot wait to share with you the story of how we got to where we are today and where we are headed in the future!\n\n\n\nSave the date and register to attend!  \n\nhttp://events.constantcontact.com/register/event?llr=bgg5xjrab&oeidk=a07efv9b40l34b1004a
X-ALT-DESC;FMTTYPE=text/html:Ambiance Design Invites You to Their 10 Year Anniversary Party!&nbsp\;<br />\n<br />\nJoin us for a fun night of food and fellowship in celebrating 10 years of business!&nbsp\; We could not have done it without the love and support of our friends\, family\, and clients!&nbsp\; We cannot wait to share with you the story of how we got to where we are today and where we are headed in the future!<br />\n<br />\nSave the date and register to attend!&nbsp\;&nbsp\;<br />\nhttp://events.constantcontact.com/register/event?llr=bgg5xjrab&amp\;oeidk=a07efv9b40l34b1004a<br />\n&nbsp\;
LOCATION:Ambiance Design Showroom 718 DeKalb Pike\, Blue Bell\, PA 19422
UID:e.2385.8096
SEQUENCE:3
DTSTAMP:20260422T065726Z
URL:https://business.chambergmc.org/events/details/ambiance-design-s-10-year-anniversary-party-8096
END:VEVENT

END:VCALENDAR
