BEGIN:VCALENDAR
VERSION:2.0
PRODID:-//ChamberMaster//Event Calendar 2.0//EN
METHOD:PUBLISH
X-PUBLISHED-TTL:P3D
REFRESH-INTERVAL:P3D
CALSCALE:GREGORIAN
BEGIN:VEVENT
DTSTART:20191030T164500Z
DTEND:20191030T173000Z
X-MICROSOFT-CDO-ALLDAYEVENT:FALSE
SUMMARY:Ambler Arboretum Director's Fall Arboretum Walk
DESCRIPTION:Register Online\n\n\n\nJoin Ambler Arboretum of Temple University Director Kathy Salisbury for a walk through a portion of the arboretum each season! Whether you join the walk to learn about plants\, learn more about the campus or just to get those extra steps in\, come along for a gentle ramble through the gardens of the Ambler Arboretum.\n\n\n\nEach season we will explore a different area. Learn what would be good in your garden and what is great for wildlife. Bring your walking shoes and your questions.\n\n\n\nInformation: kathleen.salisbury@temple.edu or 267-8400.
X-ALT-DESC;FMTTYPE=text/html:<span style="font-size:16px"><span style="font-family:arial\,helvetica\,sans-serif"><strong><a href="https://ambler.temple.edu/director%E2%80%99s-fall-arboretum-walk-registration" target="_blank">Register Online</a></strong><br />\n<br />\nJoin Ambler Arboretum of Temple University Director Kathy Salisbury for a walk through a portion of the arboretum each season! Whether you join the walk to learn about plants\, learn more about the campus or just to get those extra steps in\, come along for a gentle ramble through the gardens of the Ambler Arboretum.<br />\n<br />\nEach season we will explore a different area. Learn what would be good in your garden and what is great for wildlife. Bring your walking shoes and your questions.<br />\n<br />\nInformation:&nbsp\;<a href="mailto:kathleen.salisbury@temple.edu">kathleen.salisbury@temple.edu</a>&nbsp\;or 267-8400.</span></span>
LOCATION:580 Meetinghouse Road\, Ambler\, PA 19002
UID:e.2385.10125
SEQUENCE:3
DTSTAMP:20260423T170003Z
URL:https://business.chambergmc.org/events/details/ambler-arboretum-director-s-fall-arboretum-walk-10125
END:VEVENT

END:VCALENDAR
