BEGIN:VCALENDAR
VERSION:2.0
PRODID:-//ChamberMaster//Event Calendar 2.0//EN
METHOD:PUBLISH
X-PUBLISHED-TTL:P3D
REFRESH-INTERVAL:P3D
CALSCALE:GREGORIAN
BEGIN:VEVENT
DTSTART:20190228T000000Z
DTEND:20190228T013000Z
X-MICROSOFT-CDO-ALLDAYEVENT:FALSE
SUMMARY:Ambler Arboretum Speaker Series: Build Your Own Terrarium — Make and Take
DESCRIPTION:Missing the gardening season and feeling the need to get your hands in some soil?\n\n\n\nJoin us for an evening of planting. Florist Monika Schleifer\, owner of Buttonwood Blooms in Berks County\, will walk you through the process of creating and caring for your own terrarium. We will cover plant selection and terrarium care.\n\n\n\nDesigned to engage all levels of interest and knowledge\, the Ambler Arboretum Speaker Series invites regional experts to discuss topics that will inspire participants while challenging their way of thinking about horticulture. Program registration begins at 6:30 p.m.\, the presentation begins at 7 p.m. and Q&A follows at 8 p.m.
X-ALT-DESC;FMTTYPE=text/html:<span style="font-size:14px"><span style="font-family:arial\,helvetica\,sans-serif">Missing the gardening season and feeling the need to get your hands in some soil?<br />\n<br />\nJoin us for an evening of planting. Florist Monika Schleifer\, owner of <a href="https://www.buttonwoodblooms.com/" target="_blank">Buttonwood Blooms</a> in Berks County\, will walk you through the process of creating and caring for your own terrarium. We will cover plant selection and terrarium care.<br />\n<br />\nDesigned to engage all levels of interest and knowledge\, the Ambler Arboretum Speaker Series invites regional experts to discuss topics that will inspire participants while challenging their way of thinking about horticulture. Program registration begins at 6:30 p.m.\, the presentation begins at 7 p.m. and Q&amp\;A follows at 8 p.m.</span></span>
LOCATION:Campus Lounge\, Bright Hall\, Temple University Ambler\, 580 Meetinghouse Road\, Ambler\, PA 19002
UID:e.2385.6582
SEQUENCE:3
DTSTAMP:20260422T071217Z
URL:https://business.chambergmc.org/events/details/ambler-arboretum-horticulture-lecture-series-the-hummingbird-gardener-cindy-ahern-04-18-2018-6582
END:VEVENT

END:VCALENDAR
