BEGIN:VCALENDAR
VERSION:2.0
PRODID:-//ChamberMaster//Event Calendar 2.0//EN
METHOD:PUBLISH
X-PUBLISHED-TTL:P3D
REFRESH-INTERVAL:P3D
CALSCALE:GREGORIAN
BEGIN:VEVENT
DTSTART:20190424T230000Z
DTEND:20190425T003000Z
X-MICROSOFT-CDO-ALLDAYEVENT:FALSE
SUMMARY:Ambler Arboretum Speaker Series — SLF and You: What You Need to Know about Spotted Lanternfly for the 2019 Season
DESCRIPTION:Penn State Extension Educator Erin Kinley will discuss everything from identification and lifecycle of the spotted lanternfly to the latest research and quarantine regulations for this dreaded invader. The presentation will include plenty of time for questions to help audience members get the answers they need to combat SLF in their own landscapes.\n\n\n\nErin Kinley joined Penn State Extension in February 2019 as coordinator for the Master Gardener and Master Watershed Steward programs in Montgomery County. Originally from Nebraska\, she has her B.S. in Horticulture-Plant Science and an M.S. in Public Horticulture. She loves working with her volunteers to promote sustainable landscapes and research-based stewardship practices in the Montgomery County community.\n\n\n\nProgram registration begins at 6:30 p.m.\, the presentation begins at 7 p.m. and Q&A follow at 8 p.m.
X-ALT-DESC;FMTTYPE=text/html:<span style="font-size:14px"><span style="font-family:arial\,helvetica\,sans-serif"><a href="https://extension.psu.edu/montgomery-county" target="_blank">Penn State Extension</a> Educator Erin Kinley will discuss everything from identification and lifecycle of the spotted lanternfly to the latest research and&nbsp\;quarantine regulations for this dreaded invader. The presentation will include plenty of time for questions to help audience members get the answers they need to combat SLF in their own landscapes.<br />\n<br />\nErin Kinley joined Penn State Extension in February 2019 as coordinator for the Master Gardener and Master Watershed Steward programs in Montgomery County. Originally from Nebraska\, she has her B.S. in Horticulture-Plant Science and an M.S. in Public Horticulture. She loves working with her volunteers to promote sustainable landscapes and research-based stewardship practices in the Montgomery County community.<br />\n<br />\nProgram registration begins at 6:30 p.m.\, the presentation begins at 7 p.m. and Q&amp\;A follow at 8 p.m.</span></span><br />\n&nbsp\;
LOCATION:Temple University Ambler\, Learning Center Auditorium\, 580 Meetinghouse Road\, Ambler\, PA 19002
UID:e.2385.8074
SEQUENCE:3
DTSTAMP:20260422T095021Z
URL:https://business.chambergmc.org/events/details/ambler-arboretum-horticulture-speaker-series-japanese-garden-design-the-stroll-garden-sharee-solow-8074
END:VEVENT

END:VCALENDAR
