BEGIN:VCALENDAR
VERSION:2.0
PRODID:-//ChamberMaster//Event Calendar 2.0//EN
METHOD:PUBLISH
X-PUBLISHED-TTL:P3D
REFRESH-INTERVAL:P3D
CALSCALE:GREGORIAN
BEGIN:VEVENT
DTSTART:20181213T000000Z
DTEND:20181213T013000Z
X-MICROSOFT-CDO-ALLDAYEVENT:FALSE
SUMMARY:Ambler Arboretum Horticulture Speaker Series: Pollinators and Wildflowers — Observations from the Field: Tom Knezick
DESCRIPTION:Pinelands Nursery currently dedicates nearly 60 acres to growing native plants\; half of those acres use for wildflower seed production. Pollinators and Wildflowers will highlight some of Pineland's observations of the wildflowers\, pollinators and predatory insects that call their fields home. What plants attract the most honeybees? Which milkweed is best for monarchs? Learn the answers to these questions and more! Tom Knezick is the Production Analyst at Pinelands Nursery & Supply\, a wholesale native plant nursery in Columbus\, NJ. Knezick also owns and operates Pinelands Direct Native Plants\, an online native plant retailer offering plants and seeds grown at the nursery. Designed for the home and hobby gardeners as well as horticultural professionals\, the Ambler Arboretum Horticulture Lecture Series\, presented by regional experts\, will inspire participants while challenging their way of thinking about horticulture. Program registration begins at 6:30 p.m.\, the presentation begins at 7 p.m. and Q&A follow at 8 p.m. Information: kathleen.salisbury@temple.edu or 267-468-8400.
X-ALT-DESC;FMTTYPE=text/html:Pinelands Nursery currently dedicates nearly 60 acres to growing native plants\; half of those acres use for wildflower seed production. Pollinators and Wildflowers will highlight some of Pineland&rsquo\;s observations of the wildflowers\, pollinators and predatory insects that call their fields home. What plants attract the most honeybees? Which milkweed is best for monarchs? Learn the answers to these questions and more! Tom Knezick is the Production Analyst at Pinelands Nursery &amp\; Supply\, a wholesale native plant nursery in Columbus\, NJ. Knezick also owns and operates Pinelands Direct Native Plants\, an online native plant retailer offering plants and seeds grown at the nursery. Designed for the home and hobby gardeners as well as horticultural professionals\, the Ambler Arboretum Horticulture Lecture Series\, presented by regional experts\, will inspire participants while challenging their way of thinking about horticulture. Program registration begins at 6:30 p.m.\, the presentation begins at 7 p.m. and Q&amp\;A follow at 8 p.m. Information:&nbsp\;<a href="mailto:kathleen.salisbury@temple.edu">kathleen.salisbury@temple.edu</a> or 267-468-8400.
LOCATION:Temple University Ambler\, 580 Meetinghouse Road\, Ambler\, PA 19002
UID:e.2385.8075
SEQUENCE:3
DTSTAMP:20260422T041321Z
URL:https://business.chambergmc.org/events/details/ambler-arboretum-horticulture-speaker-series-pollinators-and-wildflowers-observations-from-the-field-tom-knezick-8075
END:VEVENT

END:VCALENDAR
