BEGIN:VCALENDAR
VERSION:2.0
PRODID:-//ChamberMaster//Event Calendar 2.0//EN
METHOD:PUBLISH
X-PUBLISHED-TTL:P3D
REFRESH-INTERVAL:P3D
CALSCALE:GREGORIAN
BEGIN:VEVENT
DTSTART:20181201T150000Z
DTEND:20181201T170000Z
X-MICROSOFT-CDO-ALLDAYEVENT:FALSE
SUMMARY:Ambler Arboretum Presents: : Bark Walk
DESCRIPTION:The Ambler Arboretum is going to the dogs! Join Ambler Arboretum of Temple University Director Kathy Salisbury for a special dog walking-friendly event in the Ambler Arboretum!\n\n\n\nThe leaves have fallen from the trees and they may be hard to tell apart   until you look at the bark. Examine the intricate patterns and fascinating details of trees throughout the Ambler Arboretum on this Bark Walk. We will even bring materials to make bark rubbings and at the end of this adventure you will have your own colorful guide to tree bark!\n\n\n\nBring your walking shoes\, your questions\, your four-legged friends and learn about the new Ambler Arboretum Dog Walkers Club! \n\n\n\nInformation: duffyj@temple.edu or 267-468-8108.
X-ALT-DESC;FMTTYPE=text/html:The Ambler Arboretum is going to the dogs! Join Ambler Arboretum of Temple University Director Kathy Salisbury for a special dog walking-friendly event in the Ambler Arboretum!<br />\n<br />\nThe leaves have fallen from the trees and they may be hard to tell apart &mdash\; until you look at the bark. Examine the intricate patterns and fascinating details of trees throughout the Ambler Arboretum on this Bark Walk. We will even bring materials to make bark rubbings and at the end of this adventure you will have your own colorful guide to tree bark!<br />\n<br />\nBring your walking shoes\, your questions\, your four-legged friends and learn about the new Ambler Arboretum Dog Walkers Club!&nbsp\;<br />\n<br />\nInformation:&nbsp\;<a href="mailto:duffyj@temple.edu">duffyj@temple.edu</a> or 267-468-8108.
LOCATION:Temple University Ambler\, 580 Meetinghouse Road\, Ambler\, PA 19002
UID:e.2385.8077
SEQUENCE:3
DTSTAMP:20260422T041939Z
URL:https://business.chambergmc.org/events/details/ambler-arboretum-presents-bark-walk-8077
END:VEVENT

END:VCALENDAR
