BEGIN:VCALENDAR
VERSION:2.0
PRODID:-//ChamberMaster//Event Calendar 2.0//EN
METHOD:PUBLISH
X-PUBLISHED-TTL:P3D
REFRESH-INTERVAL:P3D
CALSCALE:GREGORIAN
BEGIN:VEVENT
DTSTART:20181103T140000Z
DTEND:20181103T160000Z
X-MICROSOFT-CDO-ALLDAYEVENT:FALSE
SUMMARY:Ambler Arboretum Presents: Fall Foliage Hike
DESCRIPTION:Join Ambler Arboretum of Temple University Director Kathy Salisbury for a special celebration of the season in our campus gardens! Fall foliage and autumn flowers abound in the Arboretum this time of year.\n\n\n\nLearn why and how leaves change colors and what plants you can plant in your yard to feed those late season pollinators and migrating birds. Bring your walking shoes and your questions!\n\n\n\nInformation: duffyj@temple.edu or 267-468-8108.
X-ALT-DESC;FMTTYPE=text/html:Join Ambler Arboretum of Temple University Director Kathy Salisbury for a special celebration of the season in our campus gardens! Fall foliage and autumn flowers abound in the Arboretum this time of year.<br />\n<br />\nLearn why and how leaves change colors and what plants you can plant in your yard to feed those late season pollinators and migrating birds. Bring your walking shoes and your questions!<br />\n<br />\nInformation:&nbsp\;<a href="mailto:duffyj@temple.edu">duffyj@temple.edu</a> or 267-468-8108.
LOCATION:Temple University Ambler\, 580 Meetinghouse Road\, Ambler\, PA 19002
UID:e.2385.8076
SEQUENCE:3
DTSTAMP:20260422T041019Z
URL:https://business.chambergmc.org/events/details/ambler-arboretum-presents-fall-foliage-hike-8076
END:VEVENT

END:VCALENDAR
