BEGIN:VCALENDAR
VERSION:2.0
PRODID:-//ChamberMaster//Event Calendar 2.0//EN
METHOD:PUBLISH
X-PUBLISHED-TTL:P3D
REFRESH-INTERVAL:P3D
CALSCALE:GREGORIAN
BEGIN:VEVENT
DTSTART:20191212T000000Z
DTEND:20191212T010000Z
X-MICROSOFT-CDO-ALLDAYEVENT:FALSE
SUMMARY:Ambler Arboretum Speaker Series: Ask the Ambler Experts — A Panel Discussion
DESCRIPTION:Register Online\n\n\n\nThe gardening season is over and it is time to start planning for the next one. Learn how to solve landscape problems you've encountered and how to repeat any successes you may have had in your indoor and outdoor gardens. Perhaps you want to try something new but are just not sure where to begin. Bring questions to ask\, samples to examine and stories to share with our experts. You will leave well prepared for next year!\n\n\n\nOur expert panel includes: Anne Brennan\, former Ambler Arboretum Gardens Manager   hardy plants and landscape management\; Benjamin Snyder\, Greenhouse Horticulturist for the Greenhouse Education and Research Complex of Temple University's Landscape Architecture and Horticulture Department   tropical plants\, plant forcing\, vegetable and fruit growing\; Joe Imszennik\,  Facilities Manager at Temple University Ambler   lawn care.\n\n\n\nDesigned to engage all levels of interest and knowledge\, the Ambler Arboretum Speaker Series invites regional experts to discuss topics that will inspire participants while challenging their way of thinking about horticulture.\n\n\n\nProgram registration begins at 6:30 p.m.\, the presentation begins at 7 p.m. and Q&A follows at 8 p.m. Information kathleen.salisbury@temple.edu or 267-468-8400.
X-ALT-DESC;FMTTYPE=text/html:<strong><span style="font-size:14px"><a href="https://noncredit.temple.edu/series2019" style="box-sizing: border-box\; background-image: initial\; background-position: initial\; background-size: initial\; background-repeat: initial\; background-attachment: initial\; background-origin: initial\; background-clip: initial\; text-decoration-line: none\; color: rgb(0\, 123\, 194)\;" target="_blank">Register Online</a></span></strong><br />\n<br />\n<span style="color:rgb(34\, 34\, 34)\; font-family:droid sans\,sans-serif\; font-size:14px">The gardening season is over and it is time to start planning for the next one. Learn how to solve landscape problems you&rsquo\;ve encountered and how to repeat any successes you may have had in your indoor and outdoor gardens. Perhaps you want to try something new but are just not sure where to begin. Bring questions to ask\, samples to examine and stories to share with our experts. You will leave well prepared for next year!<br />\n<br />\nOur expert panel includes: Anne Brennan\, former Ambler Arboretum Gardens Manager &mdash\; hardy plants and landscape management\; Benjamin Snyder\, Greenhouse Horticulturist for the Greenhouse Education and Research Complex of Temple University&rsquo\;s Landscape Architecture and Horticulture Department &mdash\; tropical plants\, plant forcing\, vegetable and fruit growing\; Joe Imszennik\, &nbsp\;Facilities Manager at Temple University Ambler &mdash\; lawn care.<br />\n<br />\nDesigned to engage all levels of interest and knowledge\, the Ambler Arboretum Speaker Series invites regional experts to discuss topics that will inspire participants while challenging their way of thinking about horticulture.<br />\n<br />\nProgram registration begins at 6:30 p.m.\, the presentation begins at 7 p.m. and Q&amp\;A follows at 8 p.m. Information&nbsp\;</span><a href="mailto:kathleen.salisbury@temple.edu" style="box-sizing: border-box\; background-image: initial\; background-position: initial\; background-size: initial\; background-repeat: initial\; background-attachment: initial\; background-origin: initial\; background-clip: initial\; text-decoration-line: none\; color: rgb(0\, 123\, 194)\; font-family: &quot\;Droid Sans&quot\;\, sans-serif\; font-size: 14px\;">kathleen.salisbury@temple.edu</a><span style="color:rgb(34\, 34\, 34)\; font-family:droid sans\,sans-serif\; font-size:14px">&nbsp\;or 267-468-8400.</span>
LOCATION:Temple University Ambler\, 580 Meetinghouse Road\, Ambler\, PA 19002
UID:e.2385.10133
SEQUENCE:3
DTSTAMP:20260423T145219Z
URL:https://business.chambergmc.org/events/details/ambler-arboretum-speaker-series-ask-the-ambler-experts-a-panel-discussion-10133
END:VEVENT

END:VCALENDAR
