BEGIN:VCALENDAR
VERSION:2.0
PRODID:-//ChamberMaster//Event Calendar 2.0//EN
METHOD:PUBLISH
X-PUBLISHED-TTL:P3D
REFRESH-INTERVAL:P3D
CALSCALE:GREGORIAN
BEGIN:VEVENT
DTSTART:20190213T174500Z
DTEND:20190213T183000Z
X-MICROSOFT-CDO-ALLDAYEVENT:FALSE
SUMMARY:Arboretum Director’s Winter Walk — Bark\, Pods\, Buds and Branches
DESCRIPTION:Join Ambler Arboretum of Temple University Director Kathy Salisbury for a walk through a portion of the arboretum each season!\n\n\n\nWhether you join the walk to learn about plants\, learn more about the campus or just to get those extra steps in\, come along for a gentle ramble through the gardens of the Ambler Arboretum. Each season we will explore a different area. Learn what would be good in your garden and what is great for wildlife.\n\n\n\nBring your walking shoes and your questions.
X-ALT-DESC;FMTTYPE=text/html:<span style="font-size:14px"><span style="font-family:arial\,helvetica\,sans-serif">Join Ambler Arboretum of Temple University Director Kathy Salisbury for a walk through a portion of the arboretum each season!<br />\n<br />\nWhether you join the walk to learn about plants\, learn more about the campus or just to get those extra steps in\, come along for a gentle ramble through the gardens of the Ambler Arboretum. Each season we will explore a different area. Learn what would be good in your garden and what is great for wildlife.<br />\n<br />\nBring your walking shoes and your questions.&nbsp\;</span></span><br />\n<br />\n<br />\n&nbsp\;
LOCATION:Temple University Ambler\, 580 Meetinghouse Road\, Ambler\, PA 19002
UID:e.2385.3058
SEQUENCE:3
DTSTAMP:20260422T070819Z
URL:https://business.chambergmc.org/events/details/ambler-arboretum-winter-hike-02-24-2018-3058
END:VEVENT

END:VCALENDAR
