BEGIN:VCALENDAR
VERSION:2.0
PRODID:-//ChamberMaster//Event Calendar 2.0//EN
METHOD:PUBLISH
X-PUBLISHED-TTL:P3D
REFRESH-INTERVAL:P3D
CALSCALE:GREGORIAN
BEGIN:VEVENT
DTSTART:20181106T160000Z
DTEND:20181106T210000Z
X-MICROSOFT-CDO-ALLDAYEVENT:FALSE
SUMMARY:Ambler Campus Fall Blood Drive
DESCRIPTION:In the time it takes for a lunch break\, you could save three lives. That is how many people are helped with the donation of just one pint of blood. Here is your chance to make a difference. Temple University Ambler is hosting an American Red Cross blood drive. \n\n\n\nTo make an appointment to donate\, go to redcrossblood.org (donor code templeambler). Walk-ins are also welcome. All donors should bring along proper identification. \n\n\n\nThe Blood Drive is co-sponsored by the Temple University Ambler Student Government Association and the Office of Student Life. Information: 267-468-8423 or megan.cranney@temple.edu.
X-ALT-DESC;FMTTYPE=text/html:In the time it takes for a lunch break\, you could save three lives. That is how many people are helped with the donation of just one pint of&nbsp\;blood. Here is your chance to make a difference. Temple University Ambler is hosting an&nbsp\;American Red Cross&nbsp\;blood&nbsp\;drive.&nbsp\;<br />\n<br />\nTo make an appointment to donate\, go to&nbsp\;<a href="https://www.redcrossblood.org/give.html/drive-results?zipSponsor=TempleAmbler" target="_blank">redcrossblood.org</a>&nbsp\;(donor code templeambler).&nbsp\;Walk-ins are also welcome. All donors should bring along proper identification.&nbsp\;<br />\n<br />\nThe&nbsp\;Blood&nbsp\;Drive&nbsp\;is co-sponsored by the Temple University Ambler Student Government Association and the Office of Student Life. Information: 267-468-8423 or <a href="mailto:megan.cranney@temple.edu">megan.cranney@temple.edu</a>.&nbsp\;
LOCATION:Temple University Ambler\, 580 Meetinghouse Road\, Ambler\, PA 19002
UID:e.2385.8078
SEQUENCE:3
DTSTAMP:20260422T025314Z
URL:https://business.chambergmc.org/events/details/ambler-campus-fall-blood-drive-8078
END:VEVENT

END:VCALENDAR
