BEGIN:VCALENDAR
VERSION:2.0
PRODID:-//ChamberMaster//Event Calendar 2.0//EN
METHOD:PUBLISH
X-PUBLISHED-TTL:P3D
REFRESH-INTERVAL:P3D
CALSCALE:GREGORIAN
BEGIN:VEVENT
DTSTART:20171104T170000Z
DTEND:20171104T200000Z
X-MICROSOFT-CDO-ALLDAYEVENT:FALSE
SUMMARY:Aqua-Tots Horsham 1st Annual Fall Festival (and FREE Open Swim)
DESCRIPTION:Summer may be over\, but the pool is still warm!\n\n\n\nEveryone loves a party\, so join us for our 1st Annual Fall Festival! \n\n\n\nTake a dip in our pool\, tour our new facility and get to know our instructors\, classes and curriculum. Enjoy other fun activities in and out of the pool\, including arts & crafts\, balloon artists\, games and more.\n\n\n\nWe're also giving away tons of great prizes\, including a free month of swim classes.\n\n\n\nHope to see you there!\n\n\n\n*The pool will be open from 2pm - 3pm. All children unable to swim independently must be accompanied by an adult in the water.
X-ALT-DESC;FMTTYPE=text/html:<span style="color:rgb(75\, 79\, 86)\; font-family:helvetica neue\,helvetica\,arial\,sans-serif\; font-size:14px">Summer may be over\, but the pool is still warm!</span><br />\n<br />\n<span style="color:rgb(75\, 79\, 86)\; font-family:helvetica neue\,helvetica\,arial\,sans-serif\; font-size:14px">Everyone loves a party\, so join us for our <strong>1st Annual Fall Festival!</strong>&nbsp\;</span><br />\n<br />\n<span style="color:rgb(75\, 79\, 86)\; font-family:helvetica neue\,helvetica\,arial\,sans-serif\; font-size:14px">Take a dip in our pool\, tour our new facility and get to know our instructors\, classes and curriculum. Enjoy other fun activities in and out of the pool\, including arts &amp\; crafts\, balloon artists\, games and more.</span><br />\n<br />\n<span style="color:rgb(75\, 79\, 86)\; font-family:helvetica neue\,helvetica\,arial\,sans-serif\; font-size:14px">We&rsquo\;re also giving away tons of great prizes\, including a <strong>free month</strong> of swim classes.</span><br />\n<br />\n<span style="color:rgb(75\, 79\, 86)\; font-family:helvetica neue\,helvetica\,arial\,sans-serif\; font-size:14px">Hope to see you there!</span><br />\n<br />\n<em><span style="color:rgb(75\, 79\, 86)\; font-family:helvetica neue\,helvetica\,arial\,sans-serif\; font-size:14px">*The pool will be open from 2pm - 3pm. All children unable to swim independently must be accompanied by an adult in the water.</span></em>
LOCATION:307 Horsham Rd Horsham
UID:e.2385.2648
SEQUENCE:3
DTSTAMP:20260421T112359Z
URL:https://business.chambergmc.org/events/details/aqua-tots-horsham-1st-annual-fall-festival-and-free-open-swim-11-04-2017-2648
END:VEVENT

END:VCALENDAR
