BEGIN:VCALENDAR
VERSION:2.0
PRODID:-//ChamberMaster//Event Calendar 2.0//EN
METHOD:PUBLISH
X-PUBLISHED-TTL:P3D
REFRESH-INTERVAL:P3D
CALSCALE:GREGORIAN
BEGIN:VEVENT
DTSTART:20190316T140000Z
DTEND:20190316T160000Z
X-MICROSOFT-CDO-ALLDAYEVENT:FALSE
SUMMARY:Marvelous Maples and Winter Hike
DESCRIPTION:Register Online\n\n\n\nLearn how to identify sugar maple trees and determine if they are old enough to tap for syrup. Watch how to tap sugar maples and learn how climate change is affecting the trees and the maple syrup industry. Participants will additionally explore other native trees that are used to make various types of syrup and participate in a syrup tasting.\n\n\n\nWhile celebrating our marvelous maples\, visitors will also discover how to tell one tree from another when their leaves are off and why that skill is important. Participants will also learn about those plants that keep their leaves on all winter\, and how they have adapted to deal with the cold\, winds and snow.
X-ALT-DESC;FMTTYPE=text/html:<span style="font-size:14px"><span style="font-family:arial\,helvetica\,sans-serif"><strong><a href="https://ambler.temple.edu/marvelous-maples-and-winter-hike-registration" target="_blank">Register Online</a></strong><br />\n<br />\nLearn how to identify sugar maple trees and determine if they are old enough to tap for syrup. Watch how to tap sugar maples and learn how climate change is affecting the trees and the maple syrup industry. Participants will additionally explore other native trees that are used to make various types of syrup and participate in a syrup tasting.<br />\n<br />\nWhile celebrating our marvelous maples\, visitors will also discover how to tell one tree from another when their leaves are off and why that skill is important. Participants will also learn about those plants that keep their leaves on all winter\, and how they have adapted to deal with the cold\, winds and snow.</span></span><br />\n&nbsp\;
LOCATION:580 Meetinghouse Road\, Ambler\, PA 19002\, ?Meet at the Woman's National Farm and Garden Visitor's Center
UID:e.2385.6584
SEQUENCE:3
DTSTAMP:20260422T083129Z
URL:https://business.chambergmc.org/events/details/arbor-day-at-the-ambler-arboretum-04-28-2018-6584
END:VEVENT

END:VCALENDAR
