BEGIN:VCALENDAR
VERSION:2.0
PRODID:-//ChamberMaster//Event Calendar 2.0//EN
METHOD:PUBLISH
X-PUBLISHED-TTL:P3D
REFRESH-INTERVAL:P3D
CALSCALE:GREGORIAN
BEGIN:VEVENT
DTSTART:20190218T220000Z
DTEND:20190218T233000Z
X-MICROSOFT-CDO-ALLDAYEVENT:FALSE
SUMMARY:Arcadia University's TREND Talks Networking Event
DESCRIPTION:Learn from industry experts about recruiting and career trends in 5-minute TedTalk style presentations. Following the presentations\, organizations can connect with students and recruit talent in a relaxed networking setting! Light food and drinks will be provided. TREND Talks will include the following topics: Building Relationships While Working Abroad\, Are You a Future Entrepreneur?\, Diversity & Inclusion in Today's Workforce\, Why I Went Nonprofit\, and Work/Life Balance and Avoiding Burnout. Questions
X-ALT-DESC;FMTTYPE=text/html:Learn from industry experts about recruiting and career trends in 5-minute TedTalk style presentations. Following the presentations\, organizations can connect with students and recruit talent in a relaxed networking setting! Light food and drinks will be provided. TREND Talks will include the following topics: Building Relationships While Working Abroad\, Are You a Future Entrepreneur?\, Diversity &amp\; Inclusion in Today&#39\;s Workforce\, Why I Went Nonprofit\, and Work/Life Balance and Avoiding Burnout. Questions
LOCATION:The event will be on Monday\, February 18th from 5-6:30 pm in The Great Room\, Commons Building\; Arcadia University\, Glenside PA
UID:e.2385.8172
SEQUENCE:3
DTSTAMP:20260422T081904Z
URL:https://business.chambergmc.org/events/details/arcadia-university-s-trend-talks-networking-event-8172
END:VEVENT

END:VCALENDAR
