BEGIN:VCALENDAR
VERSION:2.0
PRODID:-//ChamberMaster//Event Calendar 2.0//EN
METHOD:PUBLISH
X-PUBLISHED-TTL:P3D
REFRESH-INTERVAL:P3D
CALSCALE:GREGORIAN
BEGIN:VEVENT
DTSTART:20190507T223000Z
DTEND:20190508T000000Z
X-MICROSOFT-CDO-ALLDAYEVENT:FALSE
SUMMARY:Are You Running Your Business or Is Your Business Running You?
DESCRIPTION:Maria Baseggio\, of Sage Insights will be speaking about tools and disciplines to take your business to the next level.  She is speaking with Professional Leadership Advice Network in Harleysville\, PA.
X-ALT-DESC;FMTTYPE=text/html:Maria Baseggio\, of Sage Insights will be speaking about tools and disciplines to take your business to the next level.&nbsp\; She is speaking with Professional Leadership Advice Network in Harleysville\, PA.
LOCATION:H3 Business Center in the Henning's Market Plaza at 298 main Street in Harleysville\, PA. The center is to the right of Henning's Market at the double doors next to the Curry Leaf Restaurant. Phone: 267-664-5311. Email: PlanInPA@gmail.com.
UID:e.2385.8689
SEQUENCE:3
DTSTAMP:20260422T112409Z
URL:https://business.chambergmc.org/events/details/are-you-running-your-business-or-is-your-business-running-you-8689
END:VEVENT

END:VCALENDAR
