BEGIN:VCALENDAR
VERSION:2.0
PRODID:-//ChamberMaster//Event Calendar 2.0//EN
METHOD:PUBLISH
X-PUBLISHED-TTL:P3D
REFRESH-INTERVAL:P3D
CALSCALE:GREGORIAN
BEGIN:VEVENT
DTSTART:20171107T220000Z
DTEND:20171108T000000Z
X-MICROSOFT-CDO-ALLDAYEVENT:FALSE
SUMMARY:Aroma touch technique class for couples
DESCRIPTION:Join us in this beautiful class. Learn about the 8 different essential oils and Massage strokes to help your partner transfer into a world of relaxation\, invigorating and regeneration. You take your kit home and help each other relax every day of the week! Aroma touch kits are available at wholesale price!
X-ALT-DESC;FMTTYPE=text/html:Join us in this beautiful class. Learn about the 8 different essential oils and Massage strokes to help your partner transfer into a world of relaxation\, invigorating and regeneration. You take your kit home and help each other relax every day of the week! Aroma touch kits are available at wholesale price!
LOCATION:Lansdale Massage Therapy and Wellness 203 N Broad Street\, rear entrance (parking lot) Lansdale PA 19446
UID:e.2385.2629
SEQUENCE:3
DTSTAMP:20260421T121122Z
URL:https://business.chambergmc.org/events/details/aroma-touch-technique-class-for-couples-11-07-2017-2629
END:VEVENT

END:VCALENDAR
