BEGIN:VCALENDAR
VERSION:2.0
PRODID:-//ChamberMaster//Event Calendar 2.0//EN
METHOD:PUBLISH
X-PUBLISHED-TTL:P3D
REFRESH-INTERVAL:P3D
CALSCALE:GREGORIAN
BEGIN:VEVENT
DTSTART:20190330T140000Z
DTEND:20190330T200000Z
X-MICROSOFT-CDO-ALLDAYEVENT:FALSE
SUMMARY:Artistry In Wood Show & Competition
DESCRIPTION:PA Delaware Valley Woodcarvers\n\n44th Annual Artistr in Wood Show & Competition\n\nFeatured Artist:  Jim Hiser         \n\n\n\nDecoys\, Birds\, Animals\, Woodturning\, Wildlife Artists and Much More!\n\nFree Demos\, Door Prizes and Raffles.
X-ALT-DESC;FMTTYPE=text/html:PA Delaware Valley Woodcarvers<br />\n44th Annual Artistr in Wood Show &amp\; Competition<br />\nFeatured Artist:&nbsp\; Jim Hiser&nbsp\;&nbsp\;&nbsp\;&nbsp\;&nbsp\;&nbsp\;&nbsp\;&nbsp\;&nbsp\;<br />\n<br />\nDecoys\, Birds\, Animals\, Woodturning\, Wildlife Artists and Much More!<br />\nFree Demos\, Door Prizes and Raffles.&nbsp\; &nbsp\;
LOCATION:Bucks County Technical High School 610 Wistar Road Fairless Hills\, PA 19030
UID:e.2385.8653
SEQUENCE:3
DTSTAMP:20260422T082529Z
URL:https://business.chambergmc.org/events/details/artistry-in-wood-show-competition-8653
END:VEVENT

END:VCALENDAR
