BEGIN:VCALENDAR
VERSION:2.0
PRODID:-//ChamberMaster//Event Calendar 2.0//EN
METHOD:PUBLISH
X-PUBLISHED-TTL:P3D
REFRESH-INTERVAL:P3D
CALSCALE:GREGORIAN
BEGIN:VEVENT
DTSTART:20191029T160000Z
DTEND:20191029T210000Z
X-MICROSOFT-CDO-ALLDAYEVENT:FALSE
SUMMARY:Asher's Chocolate Co. Blood Drive
DESCRIPTION:Happy Halloween! Join us on Tuesday\, October 29th from 12pm-5pm for a community blood drive in partnership with the American Red Cross. The blood drive will be located in the parking lot outside of our Souderton Retail Store\, and donors will receive a little Thank You treat from Asher's! \n\n\n\nSo stop by in your spookiest costume\, donate to an amazing cause\, and grab some Halloween chocolate while you're at it!\n\n\n\nTo make an appointment\, visit RedCrossBlood.org and use sponsor code "Ashers."
X-ALT-DESC;FMTTYPE=text/html:<span style="color:rgb(29\, 33\, 41)\; font-family:system-ui\,-apple-system\,blinkmacsystemfont\,.sfnstext-regular\,sans-serif\; font-size:14px">Happy Halloween! Join us on Tuesday\, October 29th from 12pm-5pm for a community blood drive in partnership with the </span><a href="https://www.facebook.com/redcross/" style="color: rgb(56\, 88\, 152)\; cursor: pointer\; text-decoration: none\; font-family: system-ui\, -apple-system\, BlinkMacSystemFont\, &quot\;.SFNSText-Regular&quot\;\, sans-serif\; font-size: 14px\; white-space: pre-wrap\;" target="_blank">American Red Cross</a><span style="color:rgb(29\, 33\, 41)\; font-family:system-ui\,-apple-system\,blinkmacsystemfont\,.sfnstext-regular\,sans-serif\; font-size:14px">. The blood drive will be located in the parking lot outside of our Souderton Retail Store\, and donors will receive a little Thank You treat from Asher&#39\;s! </span><br />\n<br />\n<span style="color:rgb(29\, 33\, 41)\; font-family:system-ui\,-apple-system\,blinkmacsystemfont\,.sfnstext-regular\,sans-serif\; font-size:14px">So stop by in your spookiest costume\, donate to an amazing cause\, and grab some Halloween chocolate while you&#39\;re at it!</span><br />\n<br />\n<span style="color:rgb(29\, 33\, 41)\; font-family:system-ui\,-apple-system\,blinkmacsystemfont\,.sfnstext-regular\,sans-serif\; font-size:14px">To make an appointment\, visit </span><a href="https://l.facebook.com/l.php?u=http%3A%2F%2FRedCrossBlood.org%2F%3Ffbclid%3DIwAR1yn_O4-w2XemG3UI076fOje8TUXC2Hce2Rk45W6zMMKRYsGbVLLRQgye0&amp\;h=AT3A6EsgOZSgT8fAOua6PW4mtWQUAhSns-emIp0KpKJcAVTL4MgCm08H8_AfLXq5bqkNCTVaEIwLgF4VDnElQBEd-WYYIX6TbSwrll9H4Zh9l3NgUCLN-aZf9OmFUjXWzRYbF-QGbA" rel="nofollow noopener" style="color: rgb(56\, 88\, 152)\; cursor: pointer\; text-decoration: none\; font-family: system-ui\, -apple-system\, BlinkMacSystemFont\, &quot\;.SFNSText-Regular&quot\;\, sans-serif\; font-size: 14px\; white-space: pre-wrap\;" target="_blank">RedCrossBlood.org</a><span style="color:rgb(29\, 33\, 41)\; font-family:system-ui\,-apple-system\,blinkmacsystemfont\,.sfnstext-regular\,sans-serif\; font-size:14px"> and use sponsor code &quot\;Ashers.&quot\; </span>
LOCATION:Asher's Chocolate Co. Retail Store 80 Wambold Road Souderton\, PA 18964
UID:e.2385.10135
SEQUENCE:3
DTSTAMP:20260423T165642Z
URL:https://business.chambergmc.org/events/details/asher-s-chocolate-co-blood-drive-10135
END:VEVENT

END:VCALENDAR
