BEGIN:VCALENDAR
VERSION:2.0
PRODID:-//ChamberMaster//Event Calendar 2.0//EN
METHOD:PUBLISH
X-PUBLISHED-TTL:P3D
REFRESH-INTERVAL:P3D
CALSCALE:GREGORIAN
BEGIN:VEVENT
DTSTART:20191010T213000Z
DTEND:20191010T223000Z
X-MICROSOFT-CDO-ALLDAYEVENT:FALSE
SUMMARY:Back Pain and Sciatica
DESCRIPTION:New Back Pain and Sciatica Workshop Reveals The Root Causes And Shocking Truths About Back Pain- So That You Can Find Real Relief Without Pain Pills Or Risky Surgery  This free workshop is for you if:   You're looking to get to the root cause of your back pain\, so that you can stay active for years to come    You've missed work due to back pain or sciatica    You missed out on family vacation or activities you love because you're afraid of aggravating your sciatica    You found yourself worrying more about your pain\, numbness\, and tingling rather than living your life    You're searching for natural ways to relieve your back problem- without needing medications or surgery  As a special bonus\, the first 5 people to register for the workshop will receive a free copy of Dr. Charlie Johnson's "Itty Bitty Book About Lower Back Pain." Dr. Charlie Johnson will be running the workshop and is a local expert in the treatment of lower back pain and sciatica  He helps people get back to normal and heal naturally.
X-ALT-DESC;FMTTYPE=text/html:New Back Pain and Sciatica Workshop Reveals The Root Causes And Shocking Truths About Back Pain- So That You Can Find Real Relief Without Pain Pills Or Risky Surgery&hellip\; This free workshop is for you if: &middot\; You&rsquo\;re looking to get to the root cause of your back pain\, so that you can stay active for years to come&hellip\; &middot\; You&rsquo\;ve missed work due to back pain or sciatica&hellip\; &middot\; You missed out on family vacation or activities you love because you&rsquo\;re afraid of aggravating your sciatica&hellip\; &middot\; You found yourself worrying more about your pain\, numbness\, and tingling rather than living your life&hellip\; &middot\; You&rsquo\;re searching for natural ways to relieve your back problem- without needing medications or surgery&hellip\; As a special bonus\, the first 5 people to register for the workshop will receive a free copy of Dr. Charlie Johnson&rsquo\;s &ldquo\;Itty Bitty Book About Lower Back Pain.&rdquo\; Dr. Charlie Johnson will be running the workshop and is a local expert in the treatment of lower back pain and sciatica&hellip\; He helps people get back to normal and heal naturally.
LOCATION:Whole Body Yoga Studio 103 E. Walnut St. North Wales
UID:e.2385.10141
SEQUENCE:3
DTSTAMP:20260423T165446Z
URL:https://business.chambergmc.org/events/details/back-pain-and-sciatica-10141
END:VEVENT

END:VCALENDAR
