BEGIN:VCALENDAR
VERSION:2.0
PRODID:-//ChamberMaster//Event Calendar 2.0//EN
METHOD:PUBLISH
X-PUBLISHED-TTL:P3D
REFRESH-INTERVAL:P3D
CALSCALE:GREGORIAN
BEGIN:VEVENT
DTSTART:20180906T160000Z
DTEND:20180906T173000Z
X-MICROSOFT-CDO-ALLDAYEVENT:FALSE
SUMMARY:Back to School & Out of Pain
DESCRIPTION:Attend this FREE workshop from 12-1:30 PM at PTW Hatfield on Thursday September 6th. FREE lunch will be provided.\n\nDr. Todd Bromberg joins us from Delaware Valley Pain and Spine to present on common back injuries and when pain management can be helpful. But that is not all\, if you are an HR professional\, own a small business or just simply suffer from nagging back pain Matt Brennan\, DPT and clinical supervisor will go over tips for keeping your back healthy and your employees both in the office and out. Everyone leaves the workshop with stretches.\n\nRSVP to Chelsea.jack@ptwinstitute.com. Space is limited so grab your spot today!
X-ALT-DESC;FMTTYPE=text/html:<p>Attend this FREE workshop from 12-1:30 PM at PTW Hatfield on Thursday September 6th. FREE lunch will be provided.</p>\n\n<p>Dr. Todd Bromberg joins us from Delaware Valley Pain and Spine to present on common back injuries and when pain management can be helpful. But that is not all\, if you are an HR professional\, own a small business or just simply suffer from nagging back pain Matt Brennan\, DPT and clinical supervisor will go over tips for keeping your back healthy and your employees both in the office and out. Everyone leaves the workshop with stretches.</p>\n\n<p>RSVP to Chelsea.jack@ptwinstitute.com. Space is limited so grab your spot today!</p>\n
LOCATION:1540 Cowpath Rd #100 Hatfield\, PA 19440
UID:e.2385.7953
SEQUENCE:3
DTSTAMP:20260422T014149Z
URL:https://business.chambergmc.org/events/details/back-to-school-out-of-pain-7953
END:VEVENT

END:VCALENDAR
