BEGIN:VCALENDAR
VERSION:2.0
PRODID:-//ChamberMaster//Event Calendar 2.0//EN
METHOD:PUBLISH
X-PUBLISHED-TTL:P3D
REFRESH-INTERVAL:P3D
CALSCALE:GREGORIAN
BEGIN:VEVENT
DTSTART:20171230T140000Z
DTEND:20171230T150000Z
X-MICROSOFT-CDO-ALLDAYEVENT:FALSE
SUMMARY:Balance Your Energy
DESCRIPTION:Experience a guided meditation to activate and balance your chakras.  \n \n\nChakra is a Sanskrit word for wheel or disc.  Each chakra is a swirling wheel of energy that is associated with a nerve center of the body.  They are located along the spine and up into the head.  \n\n \n\nWhen all the channels are open\, energy flows through them - bringing you to a state of harmony within. And when we interact with the world from this place\, we sow seeds of harmony\, love and light instead of anger and fear.\n\n\n\nCLICK HERE TO SIGN UP!
X-ALT-DESC;FMTTYPE=text/html:<span style="background-color:rgb(255\, 255\, 255)\; color:rgb(255\, 165\, 0)\; font-family:helvetica\; font-size:16px"><span style="font-size:15px"><span style="font-family:comic sans ms\,marker felt-thin\,arial\,sans-serif">Experience a guided meditation to activate and balance your chakras.&nbsp\;&nbsp\;</span></span></span>\n<div>&nbsp\;</div>\n\n<div><span style="background-color:rgb(255\, 255\, 255)\; color:rgb(255\, 165\, 0)\; font-family:helvetica\; font-size:16px"><span style="font-size:15px"><span style="font-family:comic sans ms\,marker felt-thin\,arial\,sans-serif">Chakra is a Sanskrit word for wheel or disc.&nbsp\; Each chakra is a swirling wheel of energy that is associated with a nerve center of the body.&nbsp\; They are located along the spine and up into the head.&nbsp\;&nbsp\;</span></span></span></div>\n\n<div>&nbsp\;</div>\n\n<div><span style="background-color:rgb(255\, 255\, 255)\; color:rgb(255\, 165\, 0)\; font-family:helvetica\; font-size:16px"><span style="font-size:15px"><span style="font-family:comic sans ms\,marker felt-thin\,arial\,sans-serif">When all the channels are open\, energy flows through them - bringing you to a state of harmony within. And when we interact with the world from this place\, we sow seeds of harmony\, love and light instead of anger and fear.</span></span></span><br />\n<br />\n<a href="https://whynotsprout.us15.list-manage.com/track/click?u=83fd1ea18fa6df0ff2ed047bc&amp\;id=863d4fff78&amp\;e=663651ea46" style="color: rgb(0\, 173\, 216)\; font-family: Helvetica\; font-size: 16px\; background-color: rgb(255\, 255\, 255)\;" target="_blank"><span style="color:rgb(255\, 140\, 0)">CLICK HERE TO SIGN UP!</span></a></div>\n
LOCATION:Why Not Sprout?! 4039 Skippack Pike Skippack\, PA 19474
UID:e.2385.2888
SEQUENCE:3
DTSTAMP:20260421T133130Z
URL:https://business.chambergmc.org/events/details/balance-your-energy-12-30-2017-2888
END:VEVENT

END:VCALENDAR
