BEGIN:VCALENDAR
VERSION:2.0
PRODID:-//ChamberMaster//Event Calendar 2.0//EN
METHOD:PUBLISH
X-PUBLISHED-TTL:P3D
REFRESH-INTERVAL:P3D
CALSCALE:GREGORIAN
BEGIN:VEVENT
DTSTART:20181118T230000Z
DTEND:20181119T000000Z
X-MICROSOFT-CDO-ALLDAYEVENT:FALSE
SUMMARY:Ballroom for Kids Open House
DESCRIPTION:Interested in learning more about Ballroom dancing\, but not ready to sign up for a class yet? Join Ms. Katrina on Sunday\, November 18th from 6:00-7:00 PM for a FREE introduction to ballroom dancing! Dancers will learn the basics of ballroom and be up on the dance floor in no time! This class is open to those ages 5-18\, no experience is necessary and both singles and couples are welcome.
X-ALT-DESC;FMTTYPE=text/html:Interested in learning more about Ballroom dancing\, but not ready to sign up for a class yet? Join Ms. Katrina on Sunday\, November 18th from 6:00-7:00 PM for a FREE introduction to ballroom dancing! Dancers will learn the basics of ballroom and be up on the dance floor in no time! This class is open to those ages 5-18\, no experience is necessary and both singles and couples are welcome.
LOCATION:Parks and Recreation Building at Miles Park 4021 Joshua Road Lafayette Hill\, PA 19444
UID:e.2385.8093
SEQUENCE:3
DTSTAMP:20260422T025443Z
URL:https://business.chambergmc.org/events/details/ballroom-for-kids-open-house-8093
END:VEVENT

END:VCALENDAR
