BEGIN:VCALENDAR
VERSION:2.0
PRODID:-//ChamberMaster//Event Calendar 2.0//EN
METHOD:PUBLISH
X-PUBLISHED-TTL:P3D
REFRESH-INTERVAL:P3D
CALSCALE:GREGORIAN
BEGIN:VEVENT
DTSTART:20200407T200000Z
DTEND:20200407T210000Z
X-MICROSOFT-CDO-ALLDAYEVENT:FALSE
SUMMARY:"Because We're Better Together" Networking Party with Integrate for Good
DESCRIPTION:EVENT DETAILS\n\nNetworking!  Games!  Prizes!  \n\nJoin Integrate for Good for a fun Zoom-based networking event on Tuesday\, April 7th  from 4:00-5:00 pm.\n\n	Participate in live games and raffles\n	Share your 30 second commercial\n	Let us know how the community can help your business\n	Make new connections\n	Support a local nonprofit organization \n	...all at the same time!\n\nWe are offering two ticket options...\n\n\n	$5.00 to participate without a 30 second commercial\n	$10.00 including a 30 second commercial\n\nIn addition\, we'll be doing a live 50/50 raffle.  Those tickets are separate.  Buy one for $5\, three for $10 or $7 for $20.\n\nWe will be limiting this event to 60 participants.  We can't wait to "see" you!  Looking forward to a fun time!\n\nSign up here:  https://secure.givelively.org/event/integrate-for-good/because-we-re-better-together-networking-party-with-integrate-for-good\n\nQuestions?  Email bev@integrateforgood.org
X-ALT-DESC;FMTTYPE=text/html:<span style="font-family:arial\,helvetica\,sans-serif"><span style="font-size:12px"><strong><span style="color:#4A4A4A">EVENT DETAILS</span></strong><br />\n<strong><span style="color:#4A4A4A">Networking!&nbsp\; Games!&nbsp\; Prizes!&nbsp\;&nbsp\;</span></strong><br />\n<span style="color:#4A4A4A">Join Integrate for Good for a fun Zoom-based networking event on Tuesday\, April 7th&nbsp\; from 4:00-5:00 pm.</span></span></span>\n<ul>\n	<li><span style="font-family:arial\,helvetica\,sans-serif"><span style="font-size:12px"><span style="color:#4A4A4A">Participate in live games and raffles</span></span></span></li>\n	<li><span style="font-family:arial\,helvetica\,sans-serif"><span style="font-size:12px"><span style="color:#4A4A4A">Share your 30 second commercial</span></span></span></li>\n	<li><span style="font-family:arial\,helvetica\,sans-serif"><span style="font-size:12px"><span style="color:#4A4A4A">Let us know how the community can help your business</span></span></span></li>\n	<li><span style="font-family:arial\,helvetica\,sans-serif"><span style="font-size:12px"><span style="color:#4A4A4A">Make new connections</span></span></span></li>\n	<li><span style="font-family:arial\,helvetica\,sans-serif"><span style="font-size:12px"><span style="color:#4A4A4A">Support a local nonprofit organization&nbsp\;</span></span></span></li>\n	<li><span style="font-family:arial\,helvetica\,sans-serif"><span style="font-size:12px"><span style="color:#4A4A4A">...all at the same time!</span></span></span></li>\n</ul>\n<span style="font-family:arial\,helvetica\,sans-serif"><span style="font-size:12px"><span style="color:#4A4A4A">We are offering two ticket options...</span></span></span>\n\n<ul>\n	<li><span style="font-family:arial\,helvetica\,sans-serif"><span style="font-size:12px"><span style="color:#4A4A4A">$5.00 to participate without a 30 second commercial</span></span></span></li>\n	<li><span style="font-family:arial\,helvetica\,sans-serif"><span style="font-size:12px"><span style="color:#4A4A4A">$10.00 including a 30 second commercial</span></span></span></li>\n</ul>\n<span style="font-family:arial\,helvetica\,sans-serif"><span style="font-size:12px"><span style="color:#4A4A4A">In addition\, we&#39\;ll be doing a live 50/50 raffle.&nbsp\; Those tickets are separate.&nbsp\; Buy one for $5\, three for $10 or $7 for $20.</span><br />\n<span style="color:#4A4A4A">We will be limiting this event to 60 participants.&nbsp\; We can&#39\;t wait to &quot\;see&quot\; you!&nbsp\; Looking forward to a fun time!</span><br />\n<span style="color:#4A4A4A">Sign up here:&nbsp\;&nbsp\;<a href="https://urldefense.proofpoint.com/v2/url?u=https-3A__secure&amp\;d=DwMFaQ&amp\;c=SFszdw3oxIkTvaP4xmzq_apLU3uL-3SxdAPNkldf__Q&amp\;r=ZXKXF5Lia-mH8ZG_mm6Iew&amp\;m=mgSrgNsqJ3cdzh11H_3iGk7Qq_i4q1WEltXOmjD8X28&amp\;s=5Ioa4MGuJr29VbDGVCH8-nSVWOGUujt-HGH_kOog0RU&amp\;e=">https://secure</a>.<a href="https://urldefense.proofpoint.com/v2/url?u=http-3A__givelively.org_event_&amp\;d=DwMFaQ&amp\;c=SFszdw3oxIkTvaP4xmzq_apLU3uL-3SxdAPNkldf__Q&amp\;r=ZXKXF5Lia-mH8ZG_mm6Iew&amp\;m=mgSrgNsqJ3cdzh11H_3iGk7Qq_i4q1WEltXOmjD8X28&amp\;s=gznkbeXFOMEt9PM6Lw5WVxa_OIHlPFJmrNP9BMijOEQ&amp\;e=">givelively.org/event/</a>integrate-for-good/because-we-re-better-together-networking-party-with-integrate-for-good</span><br />\n<span style="color:#4A4A4A">Questions?&nbsp\; Email&nbsp\;<a href="mailto:bev@integrateforgood.org" target="_blank">bev@integrateforgood.org</a></span></span></span>
LOCATION:https://secure.givelively.org/event/integrate-for-good/because-we-re-better-together-networking-party-with-integrate-for-good
UID:e.2385.10316
SEQUENCE:3
DTSTAMP:20260423T093301Z
URL:https://business.chambergmc.org/events/details/because-we-re-better-together-networking-party-with-integrate-for-good-10316
END:VEVENT

END:VCALENDAR
