BEGIN:VCALENDAR
VERSION:2.0
PRODID:-//ChamberMaster//Event Calendar 2.0//EN
METHOD:PUBLISH
X-PUBLISHED-TTL:P3D
REFRESH-INTERVAL:P3D
CALSCALE:GREGORIAN
BEGIN:VEVENT
DTSTART:20180601T203000Z
DTEND:20180601T223000Z
X-MICROSOFT-CDO-ALLDAYEVENT:FALSE
SUMMARY:Beer Tasting - Full Pint Brewing Company
DESCRIPTION:Every Friday we host in-store beer tastings in our Blue Bell Beer Cafe from select vendors  in addition to our 12 beers and 8 wines on tap! Please join us for a free sample and relax in our Beer Garden or Cafe Patio. Light snacks provided too!
X-ALT-DESC;FMTTYPE=text/html:<em><span style="color:black\;"><span style="font-size:12.0pt\;">Every Friday we host in-store beer tastings in our Blue Bell Beer Cafe from select vendors&nbsp\; in addition to our 12 beers and 8 wines on tap! Please join us for a free sample and relax in our Beer Garden or Cafe Patio. Light snacks provided too!&nbsp\;</span></span></em>
LOCATION:McCaffrey's Blue Bell 1300 Skippack Pike
UID:e.2385.6687
SEQUENCE:3
DTSTAMP:20260421T201927Z
URL:https://business.chambergmc.org/events/details/beer-tasting-full-pint-brewing-company-6687
END:VEVENT

END:VCALENDAR
