BEGIN:VCALENDAR
VERSION:2.0
PRODID:-//ChamberMaster//Event Calendar 2.0//EN
METHOD:PUBLISH
X-PUBLISHED-TTL:P3D
REFRESH-INTERVAL:P3D
CALSCALE:GREGORIAN
BEGIN:VEVENT
DTSTART:20190620T211500Z
DTEND:20190620T230000Z
X-MICROSOFT-CDO-ALLDAYEVENT:FALSE
SUMMARY:Birding with Ruth
DESCRIPTION:Just curious or already a seasoned birder\, all will enjoy Ruth Pfieffer's program. Ruth will show you a different world right in our own backyard. Explore the Dixon Meadow Preserve\, a 14-acre nature preserve located within the Angus tract of Erdenheim Farm. Ruth will help you identify birds we see on a daily basis to those that we rarely see and explain why their importance for both us and our community. A beautiful way to spend an evening at the beginning of summer! Cost is $5 per person - register online here: https://register.communitypass.net/reg/cat_program_list_detail.cfm?season_id=19254&program_id=999778 or call our office at 610-828-7276 to register over the phone.
X-ALT-DESC;FMTTYPE=text/html:Just curious or already a seasoned birder\, all will enjoy Ruth Pfieffer&rsquo\;s program. Ruth will show you a different world right in our own backyard. Explore the Dixon Meadow Preserve\, a 14-acre nature preserve located within the Angus tract of Erdenheim Farm. Ruth will help you identify birds we see on a daily basis to those that we rarely see and explain why their importance for both us and our community. A beautiful way to spend an evening at the beginning of summer! Cost is $5 per person - register online here: https://register.communitypass.net/reg/cat_program_list_detail.cfm?season_id=19254&amp\;program_id=999778 or call our office at 610-828-7276 to register over the phone.
LOCATION:Dixon Meadow Preserve 548 Flourtown Rd\, Lafayette Hill\, PA 19444
UID:e.2385.8801
SEQUENCE:3
DTSTAMP:20260422T123240Z
URL:https://business.chambergmc.org/events/details/birding-with-ruth-8801
END:VEVENT

END:VCALENDAR
