BEGIN:VCALENDAR
VERSION:2.0
PRODID:-//ChamberMaster//Event Calendar 2.0//EN
METHOD:PUBLISH
X-PUBLISHED-TTL:P3D
REFRESH-INTERVAL:P3D
CALSCALE:GREGORIAN
BEGIN:VEVENT
DTSTART:20190513T180000Z
DTEND:20190513T230000Z
X-MICROSOFT-CDO-ALLDAYEVENT:FALSE
SUMMARY:Blood Drive
DESCRIPTION:American Red Cross Blood drive Monday\, May 13\, 2019 2pm - 7pm Dorothy Morris Room Elm Terrace Gardens 660 North Broad Street Lansdale PA 19446 call Jackie Curran at 215-361-5675 for an appointment Give more life. Donate blood.
X-ALT-DESC;FMTTYPE=text/html:American Red Cross Blood drive Monday\, May 13\, 2019 2pm - 7pm Dorothy Morris Room Elm Terrace Gardens 660 North Broad Street Lansdale PA 19446 call Jackie Curran at 215-361-5675 for an appointment Give more life. Donate blood.
LOCATION:660 North Broad Street Lansdale PA 19446
UID:e.2385.8703
SEQUENCE:3
DTSTAMP:20260422T111624Z
URL:https://business.chambergmc.org/events/details/blood-drive-8703
END:VEVENT

END:VCALENDAR
